BEGIN:VCALENDAR
VERSION:2.0
PRODID:-//TYPO3/NONSGML Calendarize//EN
BEGIN:VEVENT
UID:calendarize-tara-there-are-real-alternatives-20250510
DTSTAMP:20250425T150732Z
DTSTART:20250510T173000Z
DTEND:20250510T190000Z
SUMMARY:TARA – There Are Real Alternatives
DESCRIPTION:Game-PerformanceThemenreihe Common StrugglesAnna KpokIn Kooper
 ation mit Sommerblut Wenn wir gemeinsam neu anfangen könnten\, was wäre
  uns wichtig? Welche beiseitegeschobenen Ideen aus Geschichte(n) wollen wi
 r mitnehmen? Begebt euch mit dem Raumschiff TARA 3 in die unendlichen Weit
 en und Zeiten des Alls und spielt mit uns durch\, wie es sein könnte…\n
 Das neue Theatergame von Anna Kpok verwandelt das FWT: in ein interstellar
 es Raumschiff und die Zuschauer:innen in seine Besatzung. Kern des Abends 
 ist ein „Sharing Card Game“\, bei dem wir Fragen und Gedanken zu klein
 en und größeren Weltentwürfen und Gemeinschaftspraxen teilen. Anna Kpok
  hat sich dafür etwas ausgedacht\, braucht aber viel mehr Köpfe\, um es 
 gemeinsam weiter denken zu können.\nAnna Kpok sind viele. Anna Kpok ist v
 iele. Manchmal trifft man sie als einzelne Performerin\, öfter als Kollek
 tiv und immer fehlt eine. Anna Kpok produziert in wechselnden Konstellatio
 nen Projekte\, immer mit dem gemeinsamen Interesse für Konstruktionen von
  Gemeinschaft\, Subjekt und Arbeit.\nSprache: DeutschSpieldauer: ca. 120 M
 inutenAb 14 Jahrenwww.annakpok.de\nTickets für die Vorstellungen TARA üb
 er Sommerblut:Donnerstag\, 8. Mai\, 19:30 Uhr: Tickets HIERFreitag\, 9.Mai
 \, 19:30 Uhr: Tickets HIERSamstag\, 10. Mai\, 19:30 Uhr: Tickets HIER\nEin
 e Anna Kpok Produktion. Koproduziert von der Schaubude Berlin und dem Thea
 ter im Depot\, Dortmund. In Kooperation mit FWT Köln\, Oval Office Bar\, 
 Bochum und Ringlokschuppen.Ruhr. Gefördert vom Fonds Darstellende Künste
  aus Mitteln der Beauftragten der Bundesregierung für Kultur und Medien u
 nd dem Ministerium für Kultur und Wissenschaft des Landes NRW
X-ALT-DESC;FMTTYPE=text/html:<p><strong>Game-Performance</strong><br /><a 
 href="https://www.fwt-koeln.de/programm/focus-on"><strong>Themenreihe Comm
 on Struggles</strong></a><br /><strong>Anna Kpok</strong><br /><strong>In 
 Kooperation mit Sommerblut</strong><br /><strong>&nbsp\;</strong><br />Wen
 n wir gemeinsam neu anfangen könnten\, was wäre uns wichtig? Welche beis
 eitegeschobenen Ideen aus Geschichte(n) wollen wir mitnehmen? Begebt euch 
 mit dem Raumschiff TARA 3 in die unendlichen Weiten und Zeiten des Alls un
 d spielt mit uns durch\, wie es sein könnte…</p>\n<p>Das neue Theaterga
 me von Anna Kpok verwandelt das FWT: in ein interstellares Raumschiff und 
 die Zuschauer:innen in seine Besatzung. Kern des Abends ist ein „Sharing
  Card Game“\, bei dem wir Fragen und Gedanken zu kleinen und größeren 
 Weltentwürfen und Gemeinschaftspraxen teilen. Anna Kpok hat sich dafür e
 twas ausgedacht\, braucht aber viel mehr Köpfe\, um es gemeinsam weiter d
 enken zu können.</p>\n<p>Anna Kpok sind viele. Anna Kpok ist viele. Manch
 mal trifft man sie als einzelne Performerin\, öfter als Kollektiv und imm
 er fehlt eine. Anna Kpok produziert in wechselnden Konstellationen Projekt
 e\, immer mit dem gemeinsamen Interesse für Konstruktionen von Gemeinscha
 ft\, Subjekt und Arbeit.</p>\n<p>Sprache: Deutsch<br />Spieldauer: ca. 120
  Minuten<br />Ab 14 Jahren<br /><br /><a href="http://www.annakpok.de">www
 .annakpok.de</a></p>\n<p><strong>Tickets für die Vorstellungen TARA über
  Sommerblut:</strong><br /><strong>Donnerstag\, 8. Mai\, 19:30 Uhr: </stro
 ng><a href="https://rausgegangen.de/events/tara-there-are-real-alternative
 s-11/"><strong>Tickets HIER</strong></a><br /><strong>Freitag\, 9.Mai\, 19
 :30 Uhr: </strong><a href="https://rausgegangen.de/events/tara-there-are-r
 eal-alternatives-12/"><strong>Tickets HIER</strong></a><br /><strong>Samst
 ag\, 10. Mai\, 19:30 Uhr: </strong><a href="https://rausgegangen.de/events
 /tara-there-are-real-alternatives-13/"><strong>Tickets HIER</strong></a></
 p>\n<p>Eine Anna Kpok Produktion. Koproduziert von der Schaubude Berlin un
 d dem Theater im Depot\, Dortmund. In Kooperation mit FWT Köln\, Oval Off
 ice Bar\, Bochum und Ringlokschuppen.Ruhr. Gefördert vom Fonds Darstellen
 de Künste aus Mitteln der Beauftragten der Bundesregierung für Kultur un
 d Medien und dem Ministerium für Kultur und Wissenschaft des Landes NRW</
 p>
LOCATION:VON & MIT Anna Kpok (Emese Bodolay\, Gabor Bodolay\, Kathrin Ebme
 ier\, Kirsten Möller\, Kristin Naujokat\, Klaas Werner)\, Monserrat Guiot
  Casares\, Maren Endler\, Omar Guadarrama\, Josephine Hock\, Julia Praschm
 a\, Pia Alena Wagner
END:VEVENT
END:VCALENDAR
