BEGIN:VCALENDAR
VERSION:2.0
PRODID:-//TYPO3/NONSGML Calendarize//EN
BEGIN:VEVENT
UID:calendarize-nyx-the-rhythm-of-the-night-20250517
DTSTAMP:20250404T224636Z
DTSTART:20250517T180000Z
DTEND:20250517T190000Z
SUMMARY:NYX – The Rhythm of the Night
DESCRIPTION:Premiere | PerformanceThemenreihe Common Struggleswaltraud 900
  feat. Aylin ÇelikSchlafen alle gerade so schlecht? Oder ist das einfach 
 der neue Normalzustand? Wenn der Tag der Vernunft gehört\, dann gehört d
 ie Nacht den ruhelosen Gedanken\, dem Körper\, der nicht zur Ruhe kommt\,
  während irgendwo die Welt neu verhandelt wird. Wenn die Nacht uns keinen
  Schlaf schenkt\, sehnen wir uns nach jemanden\, der sie beherrschen kann.
  NYX\, die griechische Göttin der Nacht\, steht für das Unfassbare\, de
 n Zustand zwischen Klarheit und Halluzination. Sie schläft nie. Sie wohnt
  in den Tiefen des Hades. Sie ist die einzige Göttin\, die selbst von Zeu
 s gefürchtet wird. Von NYX inspiriert\, bringen die Tänzerin Phaedra Pi
 simisi und Musikerin Aylin Çelik das Unaussprechliche auf die Bühne: Sch
 laflosigkeit\, Wachträume und die absurde Schönheit nächtlicher Gedanke
 nspiralen. Sie lassen Körper zu Schatten werden\, geben den Stimmen der N
 acht ein Echo und lassen zudem ein Stimmengewirr aus 100 Fragen an die Zuk
 unft lebendig werden – gesammelt mit Kindern und Senior:innen\, also von
  denen\, die vielleicht am meisten spüren\, dass hier gerade nichts siche
 r ist. NYX ist ein Abend über Schlaflosigkeit und ein Ritual für alle\, 
 die sich fragen\, what the fuck das hier alles eigentlich gerade soll.Spra
 che: mehrsprachigSpieldauer: ca. 60 MinutenIm Anschluss: Encore mit Aylin 
 Çelik\nGefördert vom Kulturamt der Stadt Düsseldorf\, dem Ministerium f
 ür Kultur und Wissenschaft des Landes NRW\, dem NRW Landesbüro Freie Dar
 stellende Künste und der Kunst- und Kulturstiftung der Stadtsparkasse Dü
 sseldorf
X-ALT-DESC;FMTTYPE=text/html:<p><strong>Premiere | Performance</strong><br
  /><a href="https://www.fwt-koeln.de/programm/focus-on"><strong>Themenreih
 e Common Struggles</strong></a><br /><strong>waltraud 900 feat. Aylin Çel
 ik</strong><br /><br />Schlafen alle gerade so schlecht? Oder ist das einf
 ach der neue Normalzustand? Wenn der Tag der Vernunft gehört\, dann gehö
 rt die Nacht den ruhelosen Gedanken\, dem Körper\, der nicht zur Ruhe kom
 mt\, während irgendwo die Welt neu verhandelt wird. Wenn die Nacht uns ke
 inen Schlaf schenkt\, sehnen wir uns nach jemanden\, der sie beherrschen k
 ann.&nbsp\;<br />NYX\, die griechische Göttin der Nacht\, steht für das 
 Unfassbare\, den Zustand zwischen Klarheit und Halluzination. Sie schläft
  nie. Sie wohnt in den Tiefen des Hades. Sie ist die einzige Göttin\, die
  selbst von Zeus gefürchtet wird.&nbsp\;<br />Von NYX inspiriert\, bringe
 n die Tänzerin Phaedra Pisimisi und Musikerin Aylin Çelik das Unaussprec
 hliche auf die Bühne: Schlaflosigkeit\, Wachträume und die absurde Schö
 nheit nächtlicher Gedankenspiralen. Sie lassen Körper zu Schatten werden
 \, geben den Stimmen der Nacht ein Echo und lassen zudem ein Stimmengewirr
  aus 100 Fragen an die Zukunft lebendig werden – gesammelt mit Kindern u
 nd Senior:innen\, also von denen\, die vielleicht am meisten spüren\, das
 s hier gerade nichts sicher ist. NYX ist ein Abend über Schlaflosigkeit u
 nd ein Ritual für alle\, die sich fragen\, what the fuck das hier alles e
 igentlich gerade soll.<br /><br />Sprache: mehrsprachig<br />Spieldauer: c
 a. 60 Minuten<br /><br />Im Anschluss: Encore mit Aylin Çelik</p>\n<p><i>
 Gefördert vom Kulturamt der Stadt Düsseldorf\, dem Ministerium für Kult
 ur und Wissenschaft des Landes NRW\, dem NRW Landesbüro Freie Darstellend
 e Künste und der Kunst- und Kulturstiftung der Stadtsparkasse Düsseldorf
 </i></p>
LOCATION:KONZEPT & IDEE waltraud900 \nAUF DER BÜHNE Aylin Çelik und Phae
 dra Pisimisi (im Video: Raphael Arvanitakis)\nREGIE Bianca Künzel\nAUSSTA
 TTUNG Ria Papadopoulou\nCHOREOGRAPHIE Phaedra Pisimisi\nMUSIK Aylin Çelik
 \nDRAMATURGIE Dorle Trachternach\nOUTSIDE EYE TANZ Darwin Díaz\nLICHTDESI
 GN UND TECHNIK Eckehard Merholz\nPRODUKTIONSLEITUNG Katrin Wiesemann\n
END:VEVENT
END:VCALENDAR
