BEGIN:VCALENDAR
VERSION:2.0
PRODID:-//TYPO3/NONSGML Calendarize//EN
BEGIN:VEVENT
UID:calendarize-kitchen-edition-koeln-20250509
DTSTAMP:20250404T215355Z
DTSTART:20250509T160000Z
DTEND:20250509T173000Z
SUMMARY:K.I.T.C.H.E.N. – Edition Köln
DESCRIPTION:Rauminstallation mit PerformanceIm Rahmen von Common Struggles
 Marlin de HaanÜber den Jahreswechsel 2021/22 dokumentierte die darstellen
 de und bildende Künstlerin Marlin de Haan den Auszug der drei Tänzer:inn
 en Kati\, Marius und Robert aus der gemeinsamen Wohnung in Essen-Süd. In 
 ihrer WG-Küche entstanden damals persönliche Einzelinterviews\, Gruppeni
 nterviews und bewusst mitgeschnittene Momente aus ihrem Zusammenleben. Fü
 r eine nicht anwesende Öffentlichkeit sprachen die drei Mitbewohner:innen
  mit de Haan über die vergangenen Phasen ihrer WG\, ihre Zukunft\, Hoffnu
 ngen sowie Erwartungen. Ihre Gespräche kreisen dabei stets um die gemeins
 ame Küche als Fixpunkt ihrer Wohnung. Die Autorin Helen Brecht widmete de
 n drei Tänzer:innen Texte\, der Soundspezialist Marcus Zilz bearbeitete d
 ie Tonaufnahmen. K.I.T.C.H.E.N. wurde bisher samt Original-Kücheneinrich
 tung im FFT Düsseldorf\, in einer Privatwohnung\, im Kunstmuseum Bochum u
 nd im OFF-Kunstraum CITY OF GOLD in Essen gezeigt. In der Edition Köln tr
 ifft das Publikum in wechselnder Besetzung auf die ehemaligen WG-Bewohner:
 innen Kati\, Marius und Robert und deren Freund:innen und Kolleg:innen Jos
 ie\, Hendrik und Marlene. Mehr als drei Jahre nach der Auflösung der WG k
 ommen die Tänzer:innen und Performer:innen in der installierten WG-Küche
  wieder zusammen. Sprache: DeutschSpieldauer: ca. 60 Minuten\nProduktion:
  Marlin de Haanwww.marlindehaan.deGefördert durch das Ministerium für Ku
 ltur und Wissenschaft des Landes NRW und das Kulturamt der Stadt Düsseldo
 rf
X-ALT-DESC;FMTTYPE=text/html:<p><strong>Rauminstallation mit Performance</
 strong><br /><a href="https://www.fwt-koeln.de/programm/focus-on"><strong>
 Im Rahmen von Common Struggles</strong></a><br /><strong>Marlin de Haan</s
 trong><br /><br />Über den Jahreswechsel 2021/22 dokumentierte die darste
 llende und bildende Künstlerin Marlin de Haan den Auszug der drei Tänzer
 :innen Kati\, Marius und Robert aus der gemeinsamen Wohnung in Essen-Süd.
  In ihrer WG-Küche entstanden damals persönliche Einzelinterviews\, Grup
 peninterviews und bewusst mitgeschnittene Momente aus ihrem Zusammenleben.
  Für eine nicht anwesende Öffentlichkeit sprachen die drei Mitbewohner:i
 nnen mit de Haan über die vergangenen Phasen ihrer WG\, ihre Zukunft\, Ho
 ffnungen sowie Erwartungen. Ihre Gespräche kreisen dabei stets um die gem
 einsame Küche als Fixpunkt ihrer Wohnung. Die Autorin Helen Brecht widmet
 e den drei Tänzer:innen Texte\, der Soundspezialist Marcus Zilz bearbeite
 te die Tonaufnahmen.&nbsp\;<br /><br />K.I.T.C.H.E.N. wurde bisher samt Or
 iginal-Kücheneinrichtung im FFT Düsseldorf\, in einer Privatwohnung\, im
  Kunstmuseum Bochum und im OFF-Kunstraum CITY OF GOLD in Essen gezeigt. In
  der Edition Köln trifft das Publikum in wechselnder Besetzung auf die eh
 emaligen WG-Bewohner:innen Kati\, Marius und Robert und deren Freund:innen
  und Kolleg:innen Josie\, Hendrik und Marlene. Mehr als drei Jahre nach de
 r Auflösung der WG kommen die Tänzer:innen und Performer:innen in der in
 stallierten WG-Küche wieder zusammen.&nbsp\;<br /><br />Sprache: Deutsch<
 br />Spieldauer: ca. 60 Minuten</p>\n<p>Produktion: Marlin de Haan<br /><a
  href="http://www.marlindehaan.de">www.marlindehaan.de</a><br /><br />Gefö
 rdert durch das Ministerium für Kultur und Wissenschaft des Landes NRW un
 d das Kulturamt der Stadt Düsseldorf</p>
LOCATION:VON UND MIT Hendrik Hebben\, Marlene Helling\, Josephine Kalies\,
  Marius Ledwig\, Kati Masami Menze\, Robert Schulz\nKÜNSTLERISCHE LEITUNG
 \, RAUM\, REGIE Marlin de Haan\nTEXT Helen Brecht\nSOUND Marcus Zilz\nDRAM
 ATURGIE Cornelius Schaper\nZUSAMMENARBEIT RAUM Christian Theiß\nPROJEKTOR
 GANISATION Christian Minwegen\nFINANZMANAGEMENT Katrin Wiesemann 
END:VEVENT
END:VCALENDAR
