BEGIN:VCALENDAR
VERSION:2.0
PRODID:-//TYPO3/NONSGML Calendarize//EN
BEGIN:VEVENT
UID:calendarize-i̇ti̇razim-var-ich-widerspreche-20250607
DTSTAMP:20250711T123846Z
DTSTART:20250607T180000Z
DTEND:20250607T193000Z
SUMMARY:İTİRAZIM VAR | ICH WIDERSPRECHE
DESCRIPTION:MusiktheaterThemenreihe Common StrugglesKatharsis KollektivIn 
 Kooperation mit dem Orangerie Theater\nQueeres Leben in Deutschland und de
 r Türkei hat viele Facetten\, doch was davon ist überhaupt bekannt? Für
  den dokumentarischen Liederabend „İtirazım var | Ich widerspreche“ 
 wurden Menschen aus beiden Ländern und verschiedenen gesellschaftlichen B
 ereichen interviewt\, darunter Politik\, Bildung\, Wirtschaft\, Aktivismus
  und Kunst. Was wissen sie übereinander\, welche Gemeinsamkeiten und Unte
 rschiede gibt es in ihrem jeweiligen Alltag? Und wofür kämpfen sie? Ihre
  bewegenden Geschichten kombiniert das Katharsis Kollektiv mit den Klänge
 n gefeierter Stars wie Zeki Müren\, Bülent Ersoy und Gaye Su Akyol\, die
  mit ihrem öffentlichen Auftreten regelmäßig Konventionen spreng(t)en.\
 nNach dem Erfolg von „Gastfrau – Zwischen Heim und Weh“ präsentiert
  das Katharsis Kollektiv mit „İtirazım var | Ich widerspreche“ nun s
 eine zweite Stückentwicklung.\nGefördert durch den Fonds Darstellende Kü
 nste und die Beauftragte der Bundesregierung für Kultur und Medien\, das 
 Ministerium für Kultur und Wissenschaft NRW und das Kulturamt der Stadt K
 öln
X-ALT-DESC;FMTTYPE=text/html:<p><strong>Musiktheater</strong><br /><a href
 ="https://www.fwt-koeln.de/programm/focus-on"><strong>Themenreihe Common S
 truggles</strong></a><br /><strong>Katharsis Kollektiv</strong><br /><stro
 ng>In Kooperation mit dem Orangerie Theater</strong></p>\n<p>Queeres Leben
  in Deutschland und der Türkei hat viele Facetten\, doch was davon ist ü
 berhaupt bekannt? Für den dokumentarischen Liederabend „İtirazım var 
 | Ich widerspreche“ wurden Menschen aus beiden Ländern und verschiedene
 n gesellschaftlichen Bereichen interviewt\, darunter Politik\, Bildung\, W
 irtschaft\, Aktivismus und Kunst. Was wissen sie übereinander\, welche Ge
 meinsamkeiten und Unterschiede gibt es in ihrem jeweiligen Alltag? Und wof
 ür kämpfen sie? Ihre bewegenden Geschichten kombiniert das Katharsis Kol
 lektiv mit den Klängen gefeierter Stars wie Zeki Müren\, Bülent Ersoy u
 nd Gaye Su Akyol\, die mit ihrem öffentlichen Auftreten regelmäßig Konv
 entionen spreng(t)en.</p>\n<p>Nach dem Erfolg von „Gastfrau – Zwischen
  Heim und Weh“ präsentiert das Katharsis Kollektiv mit „İtirazım va
 r | Ich widerspreche“ nun seine zweite Stückentwicklung.</p>\n<p><stron
 g>Gefördert</strong> durch den Fonds Darstellende Künste und die Beauftr
 agte der Bundesregierung für Kultur und Medien\, das Ministerium für Kul
 tur und Wissenschaft NRW und das Kulturamt der Stadt Köln</p>
LOCATION:MIT Burçin Keskin\, Cemil Kan Derebaşı\, Serdar Altan\, Virgin
 ia Elif Fischer (Alev Percussion)\nINSZENIERUNG Katharsis Kollektiv – Ch
 ristofer Schmidt\, Burçin Keskin\, Sarah Plattner\, Miriam Meißner\nPROD
 UKTIONSLEITUNG Christiane Holtschulte\nBÜHNE Martina Kock\nBÜHNENBILDASS
 ISTENZ Taly Journo\nVIDEOKUNST Parisa Karimi\nKOSTÜM- UND MAKE-UP-BERATUN
 G Prince Emrah\nCOACHING Tuğsal Moğul
END:VEVENT
END:VCALENDAR
