BEGIN:VCALENDAR
VERSION:2.0
PRODID:-//TYPO3/NONSGML Calendarize//EN
BEGIN:VEVENT
UID:calendarize-best-funural-ever-my-russian-funeral-20250504-1
DTSTAMP:20250404T221709Z
DTSTART:20250504T160000Z
DTEND:20250504T174000Z
SUMMARY:BEST FUNERAL EVER – (my russian funeral)
DESCRIPTION:Partizipative PerformanceIm Rahmen von Common StrugglesNatasha
  Borenko & CoIn Kooperation mit dem Orangerie TheaterWir sterben allein. W
 ir beerdigen gemeinsam. Eine partizipatorische Performance\, die den polit
 ischen und theatralischen Charakter des Bestattungsrituals erforscht und s
 einen festgelegten Mechanismus dekonstruiert. Ein Ritual\, auf das man sic
 h unmöglich vollständig vorbereiten kann\, aber während dieser Probe ka
 nn jeder letzte Wunsch erfüllt werden.Das Publikum ist eingeladen\, sich 
 an der geskripteten Beerdigungszeremonie zu beteiligen\, seine gemeinsame 
 Erinnerung an das Ritual einzuschalten und seine Unterschiede zwischen den
  Kulturen und Gesellschaften einzubringen. Zum Proben\, Dekonstruieren und
  Diskutieren steht ihnen der widersprüchliche russische Körper zur Verfü
 gung\, dessen letzter Wunsch es ist\, keinen Schaden mehr anzurichten und 
 friedlicher Kompost zu werden.\nNatasha Borenko – eine in Sibirien gebor
 ene fluide Theatermacherin und queer-feministische Künstlerin mit Migrati
 onshintergrund\, die partizipatorische Kunst als ein Instrument zur Dekons
 truktion des Systems und zur Einübung der Veränderung betrachtet. Sie en
 twickelt dieses Stück in Zusammenarbeit mit interkulturellen\, interdiszi
 plinären Künstlern. \nSprache: Englisch\, deutsche Simultanübersetzung
 Spieldauer: ca. 100 MinutenDie Teilnahme an interaktiven Elementen ist fre
 iwillig. \nwww.natasha-and-co.tilda.ws\nEine Produktion von Natasha Boren
 ko in Kooperation mit dem Ballhaus Ost. Die Erarbeitung der Produktion war
  gefördert vom Fonds Darstellende Künste aus Mitteln der Beauftragten de
 r Bundesregierung für Kultur und Medien im Rahmen von NEUSTART KULTUR.Dan
 k an Theaterhaus Schöneweide\, K-Salon\, Das Fährhaus\, Bestattung Licht
 blick\, Hanna Schaich\, Amelie Kahn-Ackermann\, Dennis Depta und an alle j
 ene\, die uns als Testpublikum in unserem Prozess unterstützt habenDas Ga
 stspiel ist eine Kooperation von Natasha Borenko in Kooperation mit dem FW
 T: Freies Werkstatt Theater. Unterstützt durch das NATIONALE PERFORMANCE 
 NETZ Gastspielförderung Tanz\, gefördert von der Beauftragten der Bundes
 regierung für Kultur und Medien sowie den Kultur- und Kunstministerien de
 r Länder.
X-ALT-DESC;FMTTYPE=text/html:<p><strong>Partizipative Performance</strong>
 <br /><a href="https://www.fwt-koeln.de/programm/focus-on"><strong>Im Rahm
 en von Common Struggles</strong></a><br /><strong>Natasha Borenko &amp\; C
 o</strong><br /><strong>In Kooperation mit dem Orangerie Theater</strong><
 br /><br />Wir sterben allein. Wir beerdigen gemeinsam. Eine partizipatori
 sche Performance\, die den politischen und theatralischen Charakter des Be
 stattungsrituals erforscht und seinen festgelegten Mechanismus dekonstruie
 rt. Ein Ritual\, auf das man sich unmöglich vollständig vorbereiten kann
 \, aber während dieser Probe kann jeder letzte Wunsch erfüllt werden.<br
  />Das Publikum ist eingeladen\, sich an der geskripteten Beerdigungszerem
 onie zu beteiligen\, seine gemeinsame Erinnerung an das Ritual einzuschalt
 en und seine Unterschiede zwischen den Kulturen und Gesellschaften einzubr
 ingen. Zum Proben\, Dekonstruieren und Diskutieren steht ihnen der widersp
 rüchliche russische Körper zur Verfügung\, dessen letzter Wunsch es ist
 \, keinen Schaden mehr anzurichten und friedlicher Kompost zu werden.</p>\
 n<p><strong>Natasha Borenko</strong> – eine in Sibirien geborene fluide 
 Theatermacherin und queer-feministische Künstlerin mit Migrationshintergr
 und\, die partizipatorische Kunst als ein Instrument zur Dekonstruktion de
 s Systems und zur Einübung der Veränderung betrachtet. Sie entwickelt di
 eses Stück in Zusammenarbeit mit interkulturellen\, interdisziplinären K
 ünstlern.&nbsp\;</p>\n<p>Sprache: Englisch\, deutsche Simultanübersetzun
 g<br />Spieldauer: ca. 100 Minuten<br />Die Teilnahme an interaktiven Elem
 enten ist freiwillig.&nbsp\;</p>\n<p><a href="https://natasha-and-co.tilda
 .ws">www.natasha-and-co.tilda.ws</a></p>\n<p>Eine Produktion von Natasha B
 orenko in Kooperation mit dem Ballhaus Ost. Die Erarbeitung der Produktion
  war gefördert vom Fonds Darstellende Künste aus Mitteln der Beauftragte
 n der Bundesregierung für Kultur und Medien im Rahmen von NEUSTART KULTUR
 .<br />Dank an Theaterhaus Schöneweide\, K-Salon\, Das Fährhaus\, Bestat
 tung Lichtblick\, Hanna Schaich\, Amelie Kahn-Ackermann\, Dennis Depta und
  an alle jene\, die uns als Testpublikum in unserem Prozess unterstützt h
 aben<br />Das Gastspiel ist eine Kooperation von Natasha Borenko in Kooper
 ation mit dem FWT: Freies Werkstatt Theater. Unterstützt durch das NATION
 ALE PERFORMANCE NETZ Gastspielförderung Tanz\, gefördert von der Beauftr
 agten der Bundesregierung für Kultur und Medien sowie den Kultur- und Kun
 stministerien der Länder.</p>
LOCATION:REGIE\, TEXT\, PERFORMANCE Natasha Borenko\nDRAMATURGIE\, TEXT\, 
 PERFORMANCE Lidiia Golovanova\nKÜNSTLERISCHE MITARBEIT Lena Neuburger\nBÜ
 HNENBILD Ksenia Peretrukhina\nSOUND\, MUSIK Ray Schneider / Discount\nKOST
 ÜMDESIGN Martha Lange\, Stephanie Zurstegge\nLICHTDESIGN Ann Slote\nKÜNS
 TLERISCHE PRODUKTIONSLEITUNG Kim Walz
END:VEVENT
END:VCALENDAR
