BEGIN:VCALENDAR
VERSION:2.0
PRODID:-//TYPO3/NONSGML Calendarize//EN
BEGIN:VEVENT
UID:calendarize-zoo-jutsu-lab-koeln-20250531
DTSTAMP:20250404T231351Z
DTSTART:20250531T163000Z
DTEND:20250531T174000Z
SUMMARY:ZOO JUTSU – Lab Köln
DESCRIPTION:PlayfightThemenreihe Common StrugglesKollektiv ZOOInspiriert v
 om Playfight eröffnet Kollektiv ZOO gemeinsam mit rauflustigen Mitspieler
 :innen ein inklusives Rangel-Labor\, das sich der Suche nach neuen Formen 
 des Dialogs widmet. Bewegungspraktiken wie Kämpfen\, Toben und Rangeln br
 ingen die Gruppe in eine experimentierfreudige und körperbasierte Kommuni
 kation fernab der gesprochenen Sprache. Als utopischer Raum\, in dem Dinge
 \, Diskurse und Sachverhalte auf körperlicher Ebene verhandelt werden\, e
 ntsteht eine temporäre Rangel-Arena\, die sich während der Aufführungen
  für das Publikum als Lernort und Blaupause für gesellschaftlichen Dialo
 g\, Kompromiss und Meinungsverschiedenheit öffnet. Den Playfight in der 
 Rangel-Arena treten die Mitspieler:innen\, die gemeinsam mit Kollektiv ZOO
  für zwei Wochen an dem Format arbeiten\, als fiktive\, selbst entworfene
  Figuren des Spiels „ZOO JUTSU - Lab Köln“ an. Das Format konfronti
 ert Mitspieler:innen und Publikum auf spielerische Art und Weise mit körp
 erlichen Grenzen und bringt die Raufenden in einen physischen Dialog\, in 
 dem körperliche Gegebenheiten und selbst erdachte Regeln variantenreich v
 ermischt werden. Was bewegt der physische Dialog? Welches Wissen wird hint
 erfragt? Welche eingeübten Denkmuster und welche Meinungen werden aufs Sp
 iel gesetzt?\nSpieldauer: ca. 70 MinutenAb 12 Jahren\nwww.kollektivzoo.de\
 nGefördert durch das Kulturamt der Stadt Köln und die RheinEnergie Stift
 ung 
X-ALT-DESC;FMTTYPE=text/html:<p><strong>Playfight</strong><br /><a href="h
 ttps://www.fwt-koeln.de/programm/focus-on"><strong>Themenreihe Common Stru
 ggles</strong></a><br /><strong>Kollektiv ZOO</strong><br /><br />Inspirie
 rt vom Playfight eröffnet Kollektiv ZOO gemeinsam mit rauflustigen Mitspi
 eler:innen ein inklusives Rangel-Labor\, das sich der Suche nach neuen For
 men des Dialogs widmet. Bewegungspraktiken wie Kämpfen\, Toben und Rangel
 n bringen die Gruppe in eine experimentierfreudige und körperbasierte Kom
 munikation fernab der gesprochenen Sprache. Als utopischer Raum\, in dem D
 inge\, Diskurse und Sachverhalte auf körperlicher Ebene verhandelt werden
 \, entsteht eine temporäre Rangel-Arena\, die sich während der Aufführu
 ngen für das Publikum als Lernort und Blaupause für gesellschaftlichen D
 ialog\, Kompromiss und Meinungsverschiedenheit öffnet.&nbsp\;<br />Den Pl
 ayfight in der Rangel-Arena treten die Mitspieler:innen\, die gemeinsam mi
 t Kollektiv ZOO für zwei Wochen an dem Format arbeiten\, als fiktive\, se
 lbst entworfene Figuren des Spiels „ZOO JUTSU - Lab Köln“ an. <br /
 >Das Format konfrontiert Mitspieler:innen und Publikum auf spielerische Ar
 t und Weise mit körperlichen Grenzen und bringt die Raufenden in einen ph
 ysischen Dialog\, in dem körperliche Gegebenheiten und selbst erdachte Re
 geln variantenreich vermischt werden. Was bewegt der physische Dialog? Wel
 ches Wissen wird hinterfragt? Welche eingeübten Denkmuster und welche Mei
 nungen werden aufs Spiel gesetzt?</p>\n<p>Spieldauer: ca. 70 Minuten<br />
 Ab 12 Jahren</p>\n<p><a href="http://www.kollektivzoo.de">www.kollektivzoo
 .de</a></p>\n<p>Gefördert durch das Kulturamt der Stadt Köln und die Rhe
 inEnergie Stiftung&nbsp\;</p>
LOCATION:Kollektiv ZOO und eine Gruppe Raufbegeisterter
END:VEVENT
END:VCALENDAR
