BEGIN:VCALENDAR
VERSION:2.0
PRODID:-//TYPO3/NONSGML Calendarize//EN
BEGIN:VEVENT
UID:calendarize-sorgeschule-20250531
DTSTAMP:20250514T203011Z
DTSTART:20250531T110000Z
DTEND:20250531T180000Z
SUMMARY:EUROPÄISCHE SORGESCHULE
DESCRIPTION:EUROPÄISCHE SORGESCHULEWir sind alle Töchter\, Söhne\, Kind
 er - Erzählungen für die Zukunftvon kainkollektiv\nSORGESCHULEN\, das si
 nd Schulen des Verlernens und ganz neu Lernens\, des Teilens und Verknüpf
 ens von Wissensformen\, die wir uns nicht mal im Traum vorgestellt hätten
 \, von Energien und Praktiken\, die ein anderes Zusammenleben konkret grei
 fbar werden lassen.Sorgeschulen sind Anti-Schulen – hier geht es nicht u
 ms Auswendiglernen. Sorgeschulen sind Orte für Erfahrungen\, Energien und
  Erinnerungen an eine andere Zukunft als jene der Krisen und Katastrophen 
 der Gegenwart. Was nehmen wir mit aus unserer Geschichte – als Töchter
 \, Söhne\, Geschwister im Geiste? Was brauchen wir\, wenn wir freiwillig 
 oder unfreiwillig unseren Lebensmittelpunkt verändern? Wie sieht Gastfreu
 ndschaft aus? Welche Stimmen fehlen in den Erzählungen von Zukunft? Wie k
 önnen Stimmen von Frauen* verstärkt werden? Und wie können wir gemeinsa
 m neue Narrative schreiben\, malen\, singen\, improvisieren?\nIn Kollabora
 tion mit dem In*Haus und Mondo Aperto laden kainkollektiv zur nächsten SO
 RGESCHULE am FWT ein. Gemeinsam öffnen wir einen Raum des Zuhörens\, Tei
 lens und Erprobens – einen experimentellen Raum für andere Formen des W
 issensaustauschs\, für kleine Szenen\, Bilder\, Songtexte\, Geräusche un
 d Erinnerungen.\nMit künstlerischer Unterstützung von Musiker:innen\, Sc
 hauspieler:innen und Aktivist:innen gestalten wir diese zwei Tage gemeinsa
 m – als Einladung an Communities\, die im Theater bislang zu wenig sicht
 bar waren\, und als Experiment eines offenen\, geteilten Theaters der Sorg
 e.\nAm Abend zeigen wir das Hörspiel “Rückkehr der Königstöchter” 
 – eine klingende Spurensuche nach weiblicher Genealogie\, Fürsorge und 
 radikaler Zärtlichkeit.\nKommt vorbei\, bringt eure Geschichten mit – u
 nd werdet Teil dieser kollektiven Werkstatt für zukünftige Erzählungen.
 \nFreitag\, 30. Mai:17:00 – 19:00 Uhr EUROPÄISCHE SORGESCHULE19:00 – 
 19:45 Uhr gemeinsames Essen20:00 Uhr  Rückkehr der Königstöchter\nSams
 tag\, 31. Mai:13:00 – 15:30 Uhr EUROPÄISCHE SORGESCHULE15:30 – 16:00 
 Uhr Kaffee-Pause16:00 – 19:00 Uhr EUROPÄISCHE SORGESCHULE19:00 – 19:4
 5 Uhr gemeinsames Essen20:00 Uhr Rückkehr der Königstöchter\nKein küns
 tlerisches Vorwissen nötig. Die Teilnahme bei der Europäischen Sorgeschu
 le ist kostenlos\, wir freuen uns ggf. über eine Spende vor Ort. Anmeldun
 g über audience@fwt-koeln.de\nDie Europäische Sorgeschule ist gefördert
  vom Kulturamt der Stadt Köln\, Referat Kulturelle Teilhabe\nIntegrations
 haus e.V.Ist eine migrantische Neue Deutsche Organisation. Sie engagieren 
 sich für eine rassismusfreiere\, diversitätssensible und gerechte Welt. 
 Sie fordern Platz für Vielfalt und Vielfältigkeit. Sie sind eine soziale
 \, gemeinnützige Nichtregierungsorganisation und bemühen sich jeden Tag\
 , ein Ort der Offenheit und Inklusion zu sein\, an dem jede* und jeder* wi
 llkommen ist.\nOffene Welt - Mondo Aperto e.V.Der Offene Welt e.V. ist ein
  überparteilicher\, überkonfessioneller und unabhängiger Verein\, in de
 m in Köln lebende Italienerinnen und Italiener\, die aus den verschiedens
 ten Regionen Italiens stammen oder bereits hier geboren sind\, sich einem 
 offenen interkulturellen Dialog verpflichtet fühlen. Dementsprechend gehö
 ren dem Verein auch Menschen anderer Nationalitäten\, Staatsangehörigkei
 ten\, Sprach- und Kulturkreise an\, welche die Satzungsziele und Zwecke un
 terstützen möchten. Er ist das erste und einzige anerkannte interkulture
 lle Zentrum für Italiener in Köln.\nkainkollektivDas international arbei
 tende Künstler-Team kainkollektiv arbeitet seit 2004 in unterschiedlichen
  Kollaborationen an theatralen Partituren zwischen Theater\, Installation 
 und Performance. Diese Kollaborationen\, von NRW aus bis nach Polen\, Kroa
 tien oder Kamerun\, sind einem Theater der Zeit-Genossenschaft verschriebe
 n. Die Arbeit in internationalen (Ko-)Produktionen – den musiktheatralen
 \, doku-fiktionalen GLOBE OPERAS\, einem von kainkollektiv erfundenen\, au
 f ausgiebigen Recherchen basierenden Performance-Format – ist zentraler 
 Bestandteil der Arbeitsweise.
X-ALT-DESC;FMTTYPE=text/html:<p><strong>EUROPÄISCHE SORGESCHULE</strong><
 br /><strong>Wir sind alle Töchter\, Söhne\, Kinder - Erzählungen für 
 die Zukunft</strong><br /><strong>von kainkollektiv</strong></p>\n<p>SORGE
 SCHULEN\, das sind Schulen des Verlernens und ganz neu Lernens\, des Teile
 ns und Verknüpfens von Wissensformen\, die wir uns nicht mal im Traum vor
 gestellt hätten\, von Energien und Praktiken\, die ein anderes Zusammenle
 ben konkret greifbar werden lassen.<br />Sorgeschulen sind Anti-Schulen –
  hier geht es nicht ums Auswendiglernen. Sorgeschulen sind Orte für Erfah
 rungen\, Energien und Erinnerungen an eine andere Zukunft als jene der Kri
 sen und Katastrophen der Gegenwart.&nbsp\;<br />Was nehmen wir mit aus uns
 erer Geschichte – als Töchter\, Söhne\, Geschwister im Geiste? Was bra
 uchen wir\, wenn wir freiwillig oder unfreiwillig unseren Lebensmittelpunk
 t verändern? Wie sieht Gastfreundschaft aus? Welche Stimmen fehlen in den
  Erzählungen von Zukunft? Wie können Stimmen von Frauen* verstärkt werd
 en? Und wie können wir gemeinsam neue Narrative schreiben\, malen\, singe
 n\, improvisieren?</p>\n<p>In Kollaboration mit dem In*Haus und Mondo Aper
 to laden kainkollektiv zur nächsten SORGESCHULE am FWT ein. Gemeinsam öf
 fnen wir einen Raum des Zuhörens\, Teilens und Erprobens – einen experi
 mentellen Raum für andere Formen des Wissensaustauschs\, für kleine Szen
 en\, Bilder\, Songtexte\, Geräusche und Erinnerungen.</p>\n<p>Mit künstl
 erischer Unterstützung von Musiker:innen\, Schauspieler:innen und Aktivis
 t:innen gestalten wir diese zwei Tage gemeinsam – als Einladung an Commu
 nities\, die im Theater bislang zu wenig sichtbar waren\, und als Experime
 nt eines offenen\, geteilten Theaters der Sorge.</p>\n<p>Am Abend zeigen w
 ir das Hörspiel “<a href="https://www.fwt-koeln.de/veranstaltung/rueckk
 ehr-der-koenigstoechter-20250530"><strong>Rückkehr der Königstöchter</s
 trong></a>” – eine klingende Spurensuche nach weiblicher Genealogie\, 
 Fürsorge und radikaler Zärtlichkeit.</p>\n<p>Kommt vorbei\, bringt eure 
 Geschichten mit – und werdet Teil dieser kollektiven Werkstatt für zukü
 nftige Erzählungen.</p>\n<p><strong>Freitag\, 30. Mai:</strong><br /><str
 ong>17:00 – 19:00 Uhr </strong>EUROPÄISCHE<strong> </strong>SORGESCHULE
 <br /><strong>19:00 – 19:45 Uhr</strong> gemeinsames Essen<br /><strong>
 20:00 Uhr&nbsp\;</strong> <a href="https://www.fwt-koeln.de/veranstaltung/
 rueckkehr-der-koenigstoechter-20250530"><strong>Rückkehr der Königstöch
 ter</strong></a></p>\n<p><strong>Samstag\, 31. Mai:</strong><br /><strong>
 13:00 – 15:30 Uhr</strong> EUROPÄISCHE SORGESCHULE<br /><strong>15:30 –
  16:00 Uhr</strong> Kaffee-Pause<br /><strong>16:00 – 19:00 Uhr</strong>
  EUROPÄISCHE SORGESCHULE<br /><strong>19:00 – 19:45 Uhr</strong> gemein
 sames Essen<br /><strong>20:00 Uhr </strong><a href="https://www.fwt-koeln
 .de/veranstaltung/rueckkehr-der-koenigstoechter-20250530"><strong>Rückkeh
 r der Königstöchter</strong></a></p>\n<p>Kein künstlerisches Vorwissen 
 nötig. Die Teilnahme bei der Europäischen Sorgeschule ist kostenlos\, wi
 r freuen uns ggf. über eine Spende vor Ort. Anmeldung über <a href="mail
 to:audience@fwt-koeln.de"><u>audience@fwt-koeln.de</u></a></p>\n<p>Die Eur
 opäische Sorgeschule ist gefördert vom Kulturamt der Stadt Köln\, Refer
 at Kulturelle Teilhabe</p>\n<p><a href="https://ihaus.org/"><strong>Integr
 ationshaus e.V.</strong></a><br />Ist eine migrantische Neue Deutsche Orga
 nisation. Sie engagieren sich für eine rassismusfreiere\, diversitätssen
 sible und gerechte Welt. Sie fordern Platz für Vielfalt und Vielfältigke
 it. Sie sind eine soziale\, gemeinnützige Nichtregierungsorganisation und
  bemühen sich jeden Tag\, ein Ort der Offenheit und Inklusion zu sein\, a
 n dem jede* und jeder* willkommen ist.</p>\n<p><a href="https://www.offene
 -welt.de/"><strong>Offene Welt - Mondo Aperto e.V.</strong></a><br />Der O
 ffene Welt e.V. ist ein überparteilicher\, überkonfessioneller und unabh
 ängiger Verein\, in dem in Köln lebende Italienerinnen und Italiener\, d
 ie aus den verschiedensten Regionen Italiens stammen oder bereits hier geb
 oren sind\, sich einem offenen interkulturellen Dialog verpflichtet fühle
 n. Dementsprechend gehören dem Verein auch Menschen anderer Nationalität
 en\, Staatsangehörigkeiten\, Sprach- und Kulturkreise an\, welche die Sat
 zungsziele und Zwecke unterstützen möchten. Er ist das erste und einzige
  anerkannte interkulturelle Zentrum für Italiener in Köln.</p>\n<p><a hr
 ef="https://kainkollektiv.de/"><strong>kainkollektiv</strong></a><br />Das
  international arbeitende Künstler-Team kainkollektiv arbeitet seit 2004 
 in unterschiedlichen Kollaborationen an theatralen Partituren zwischen The
 ater\, Installation und Performance. Diese Kollaborationen\, von NRW aus b
 is nach Polen\, Kroatien oder Kamerun\, sind einem Theater der Zeit-Genoss
 enschaft verschrieben. Die Arbeit in internationalen (Ko-)Produktionen –
  den musiktheatralen\, doku-fiktionalen GLOBE OPERAS\, einem von kainkolle
 ktiv erfundenen\, auf ausgiebigen Recherchen basierenden Performance-Forma
 t – ist zentraler Bestandteil der Arbeitsweise.</p>
LOCATION:
END:VEVENT
END:VCALENDAR
