BEGIN:VCALENDAR
VERSION:2.0
PRODID:-//TYPO3/NONSGML Calendarize//EN
BEGIN:VEVENT
UID:calendarize-rueckkehr-der-koenigstoechter-20250530
DTSTAMP:20250404T225910Z
DTSTART:20250530T180000Z
DTEND:20250530T190000Z
SUMMARY:RÜCKKEHR DER KÖNIGSTÖCHTER
DESCRIPTION:Live-HörspielThemenreihe Common StruggleskainkollektivIn dies
 em Live-Hörspiel eröffnen kainkollektiv gemeinsam mit den internationale
 n cosmic sisters einen Klangraum in Form eines begehbaren Hörspiels\, das
  die Geschichten und Gesänge jener vergessenen „Königstöchter“ zu G
 ehör bringt\, die unsere weiße\, männlich geprägte Zivilisationsgeschi
 chte seit der Zeit der Antike zum Verschwinden gebracht hat. In einer akus
 tisch-musikalischen Sound-Landschaft erscheinen die Stimmen\, Narrative\, 
 persönlichen Berichte und Soundscapes von Kulturen\, die durch die westli
 che Kolonialgeschichte ausgelöscht wurden\, in einer (afro)futuristischen
  und doku-fiktionalen Gegenreise durch Zeiten und Räume. Sprachen: Deuts
 ch & EnglischSpieldauer: ca. 60 MinutenAb 14 Jahren\nwww.kainkollektiv.de\
 nProduktion: kainkollektiv. Koproduktion: Ringlokschuppen Ruhr\, FFT Düss
 eldorf\, tak Berlin.Gefördert vom Ministerium für Kultur und Wissenschaf
 t des Landes NRW\, dem Fonds Darstellende Künste aus Mitteln der Beauftra
 gten der Bundesregierung für Kultur und Medien und der Stadt Bochum\n\n
X-ALT-DESC;FMTTYPE=text/html:<p><strong>Live-Hörspiel</strong><br /><stro
 ng>Themenreihe Common Struggles</strong><br /><strong>kainkollektiv</stron
 g><br /><br />In diesem Live-Hörspiel eröffnen kainkollektiv gemeinsam m
 it den internationalen cosmic sisters einen Klangraum in Form eines begehb
 aren Hörspiels\, das die Geschichten und Gesänge jener vergessenen „Kö
 nigstöchter“ zu Gehör bringt\, die unsere weiße\, männlich geprägte
  Zivilisationsgeschichte seit der Zeit der Antike zum Verschwinden gebrach
 t hat. In einer akustisch-musikalischen Sound-Landschaft erscheinen die St
 immen\, Narrative\, persönlichen Berichte und Soundscapes von Kulturen\, 
 die durch die westliche Kolonialgeschichte ausgelöscht wurden\, in einer 
 (afro)futuristischen und doku-fiktionalen Gegenreise durch Zeiten und Räu
 me.&nbsp\;<br /><br />Sprachen: Deutsch &amp\; Englisch<br />Spieldauer: c
 a. 60 Minuten<br />Ab 14 Jahren</p>\n<p><a href="https://kainkollektiv.de"
 >www.kainkollektiv.de</a></p>\n<p>Produktion: kainkollektiv. Koproduktion:
  Ringlokschuppen Ruhr\, FFT Düsseldorf\, tak Berlin.<br />Gefördert vom 
 Ministerium für Kultur und Wissenschaft des Landes NRW\, dem Fonds Darste
 llende Künste aus Mitteln der Beauftragten der Bundesregierung für Kultu
 r und Medien und der Stadt Bochum</p>\n\n
LOCATION:Anelisa Stuurman\, Fabian Lettow\, Immanuel Bartz\, Julie Ilner\,
  Lydia Polyzoi\, Mirjam Schmuck\, Pélagie Alima\, Richard Behrens\, Sara 
 Bigdeli Shamloo\, Shams Kassab\, Silvia Dierkes\, Vanessa Chartrand-Rodrig
 ue
END:VEVENT
END:VCALENDAR
