BEGIN:VCALENDAR
VERSION:2.0
PRODID:-//TYPO3/NONSGML Calendarize//EN
BEGIN:VEVENT
UID:calendarize-performance-workshop-shards-of-normality-20250525
DTSTAMP:20250514T204218Z
DTSTART:20250525T090000Z
DTEND:20250525T143000Z
SUMMARY:Performance Workshop Shards of Normality
DESCRIPTION:Performance Workshop für Jugendliche und junge Erwachsene ab 
 14 JahreVon International Laboratory Ensemble\nSeit drei Jahren herrscht K
 rieg in der Ukraine. Doch was passiert\, wenn ein Krieg in unserer Wahrneh
 mung zu etwas "Normalem" wird? Wenn die Welt aufhört\, hinzusehen\, und E
 mpörung langsam verblasst? Ist es möglich\, das Thema anders zu greifen 
 und darüber künstlerisch zu sprechen? Und können sich daraus ethische F
 ragen rund um Verantwortung\, Sorge und Fürsorge für den anderen und ein
 e aktive Mitgestaltung in der Gesellschaft ergeben?\nGenau das wollen wir 
 mit dir zusammen herausfinden! Das International Laboratory Ensemble lädt
  dich ein\, Teil eines kreativen Workshops zu werden. Gemeinsam mit den Kü
 nstlerinnen Asta Nechajute und Yuri Birte Anderson entwickelst du eine eig
 ene Performance. Durch Objekte\, Film und Geschichten nähern wir uns dem 
 Thema auf ganz neue Weise.\n24. und 25. Mai\, 11:00 - 16:30 Uhr\nTeilnahme
  kostenlos\, Anmeldung über info@international-laboratory-ensemble.orgWas
  erwartet dich?\n🎭 Kreatives Arbeiten mit Theater/Performance\, Film un
 d Objekten🎬 Entwicklung eigener künstlerischer Ausdrucksformen🗣 Aus
 tausch mit (internationalen) Künstler:innen und anderen Jugendlichen💡 
 Ein geschützter Raum\, um deine Gedanken und Ideen einzubringen
X-ALT-DESC;FMTTYPE=text/html:<p><strong>Performance Workshop für Jugendli
 che und junge Erwachsene ab 14 Jahre</strong><br /><strong>Von Internation
 al Laboratory Ensemble</strong></p>\n<p>Seit drei Jahren herrscht Krieg in
  der Ukraine. Doch was passiert\, wenn ein Krieg in unserer Wahrnehmung zu
  etwas "Normalem" wird? Wenn die Welt aufhört\, hinzusehen\, und Empörun
 g langsam verblasst? Ist es möglich\, das Thema anders zu greifen und dar
 über künstlerisch zu sprechen? Und können sich daraus ethische Fragen r
 und um Verantwortung\, Sorge und Fürsorge für den anderen und eine aktiv
 e Mitgestaltung in der Gesellschaft ergeben?</p>\n<p>Genau das wollen wir 
 mit dir zusammen herausfinden! Das International Laboratory Ensemble lädt
  dich ein\, Teil eines kreativen Workshops zu werden. Gemeinsam mit den Kü
 nstlerinnen Asta Nechajute und Yuri Birte Anderson entwickelst du eine eig
 ene Performance. Durch Objekte\, Film und Geschichten nähern wir uns dem 
 Thema auf ganz neue Weise.</p>\n<p><strong>24. und 25. Mai\, 11:00 - 16:30
  Uhr</strong></p>\n<p>Teilnahme kostenlos\, Anmeldung über <a href="mailt
 o:info@international-laboratory-ensemble.org"><u>info@international-labora
 tory-ensemble.org</u></a><br /><br />Was erwartet dich?</p>\n<p>🎭 Kreat
 ives Arbeiten mit Theater/Performance\, Film und Objekten<br />🎬 Entwic
 klung eigener künstlerischer Ausdrucksformen<br />🗣 Austausch mit (int
 ernationalen) Künstler:innen und anderen Jugendlichen<br />💡 Ein gesch
 ützter Raum\, um deine Gedanken und Ideen einzubringen</p>
LOCATION:
END:VEVENT
END:VCALENDAR
