BEGIN:VCALENDAR
VERSION:2.0
PRODID:-//TYPO3/NONSGML Calendarize//EN
BEGIN:VEVENT
UID:calendarize-nulli-priesemut-gibt-es-eigentlich-brummer-die-nach-moehre
 n-schmecken-20241110
DTSTAMP:20240621T180204Z
DTSTART:20241110T140000Z
DTEND:20241110T150000Z
SUMMARY:NULLI & PRIESEMUT: Gibt es eigentlich Brummer\, die nach Möhren s
 chmecken?
DESCRIPTION:Figurentheater für Kinder | Nach dem Kinderbuch-Bestseller vo
 n Matthias Sodtke Mit dem Theater Blickwechsel. Für alle ab 4 Jahren. 25 
 Jahre-Jubiläumsvorstellung. Anschließend "Grün-Orange-Party" und Autogr
 ammstunde mit Autor Matthias Sodtke\nDer Hase Nulli und der Frosch Priesem
 ut sind die dicksten Freunde. Eines Tages stellen sie fest\, dass Priesemu
 t noch niemals die Lieblingsspeise von Nulli probiert hat: Saftige\, knack
 ige Möhren! Aber auch Nulli hat noch nie von den "dicken Brummern" gekost
 et\, die Priesemut so gerne mag. Wird dem einen die Lieblingsspeise des an
 deren schmecken? Seit 25 Jahren entführen Iris Schleuss und Günter Ottem
 eier in die Welt von Nulli und Priesemut und spielen sich virtuos in die H
 erzen aller kleinen und großen Zuschauer.\n\n
X-ALT-DESC;FMTTYPE=text/html:<p><strong>Figurentheater für Kinder</strong
 > | <strong>Nach dem Kinderbuch-Bestseller von Matthias Sodtke<br /> Mit d
 em <a href="https://www.nulli-priesemut.com/theater_blickwechsel.html">The
 ater Blickwechsel</a>. Für alle ab 4 Jahren. <em>25 Jahre-Jubiläumsvorst
 ellung. </em></strong><em>Anschließend "Grün-Orange-Party" und Autogramm
 stunde mit Autor Matthias Sodtke</em></p>\n<p>Der Hase Nulli und der Frosc
 h Priesemut sind die dicksten Freunde. Eines Tages stellen sie fest\, dass
  Priesemut noch niemals die Lieblingsspeise von Nulli probiert hat: Saftig
 e\, knackige Möhren! Aber auch Nulli hat noch nie von den "dicken Brummer
 n" gekostet\, die Priesemut so gerne mag. Wird dem einen die Lieblingsspei
 se des anderen schmecken? <em>Seit 25 Jahren</em> entführen Iris Schleuss
  und Günter Ottemeier in die Welt von Nulli und Priesemut und spielen sic
 h virtuos in die Herzen aller kleinen und großen Zuschauer.</p>\n\n
LOCATION:MIT Iris Schleuss und Günter Ottemeier\nREGIE Bernd Berger
END:VEVENT
END:VCALENDAR
