BEGIN:VCALENDAR
VERSION:2.0
PRODID:-//TYPO3/NONSGML Calendarize//EN
BEGIN:VEVENT
UID:calendarize-homewalk-eine-reise-nach-wohnanien-20211204
DTSTAMP:20240219T170513Z
DTSTART:20211204T100000Z
DTEND:20211204T225900Z
SUMMARY:ONLINE: HOMEWALK - EINE REISE NACH WOHNANIEN
DESCRIPTION:Ein Audio-Walk für zuhause für Leute ab 10 Jahren Koprodukti
 on von pulk fiktion mit dem FFT Düsseldorf und dem KJT Dortmund in Kooper
 ation mit dem FWT AUSGEZEICHNT MIT DEM DR.-OTTO-KASTEN-PREIS 2021 DES DEUT
 SCHEN BÜHNENVEREINS\nZwei Kinder zuhause - jedes bei sich. Gemeinsam bege
 ben sie sich am Telefon auf eine Expedition durch Wohnanien. Zur Seite ste
 ht ihnen eine erfahrene Reiseleitung\, eine Person\, die schon viele Länd
 er bereist hat. Doch in Wohnanien war noch niemand von Ihnen! Jetzt beginn
 t eine große Reise.. bei der alle  zwar Expert*innen ihrer Umgebung und 
 doch in der Begegnung mit dem Unbekannten aufeinander angewiesen sind. Und
  ehe sie sich versehen\, ist auch ihre eigene Wohnung nicht mehr das\, was
  sie dachten… Es werden Karten gezeichnet\, Verstecke aufgesucht\, Provi
 antschränke geplündert und Aussichten bewundert. Es wird kalt\, eng\, ge
 fährlich und herrlich zugleich. Ist das ein seltsames Tiergeräusch? Oder
  doch  das andere Kind in der Leitung?\n„Homewalk“ ist ein Telefon-Au
 dioparcours\, der neue Orte und Pfade erschafft\, durch die Landschaften d
 er eigenen und die Wohnungen der anderen. Live moderiert und mittels gespr
 ochenem Wort\, durch Sounds und Musik werden drei Wohnungen zu einer Gesam
 twelt: Das ist Wohnanien! Dabei befragt „Homewalk“ spielerisch die Bed
 ingungen unseres Wohnens\, die Unterschiede und Gemeinsamkeiten und setzt 
 uns ins Verhältnis zueinander – und zu der Welt da draußen.\nZum Mitma
 chen braucht man ein internetfähiges Smartphone\, außerdem ein Headset o
 der Kopfhörer.  www.pulk-fiktion.de\nErmöglicht durch das RELOAD STIPEND
 IUM der Kulturstiftung des Bundes
X-ALT-DESC;FMTTYPE=text/html:<p><strong>Ein Audio-Walk für zuhause für L
 eute ab 10 Jahren<br /> Koproduktion von pulk fiktion mit dem FFT Düsseld
 orf und dem KJT Dortmund in Kooperation mit dem FWT</strong><br /> AUSGEZE
 ICHNT MIT DEM DR.-OTTO-KASTEN-PREIS 2021 DES DEUTSCHEN BÜHNENVEREINS</p>\
 n<p>Zwei Kinder zuhause - jedes bei sich. Gemeinsam begeben sie sich am Te
 lefon auf eine Expedition durch Wohnanien. Zur Seite steht ihnen eine erfa
 hrene Reiseleitung\, eine Person\, die schon viele Länder bereist hat. Do
 ch in Wohnanien war noch niemand von Ihnen! Jetzt beginnt eine große Reis
 e.. bei der alle&nbsp\; zwar Expert*innen ihrer Umgebung und doch in der B
 egegnung mit dem Unbekannten aufeinander angewiesen sind. Und ehe sie sich
  versehen\, ist auch ihre eigene Wohnung nicht mehr das\, was sie dachten…
 <br /> Es werden Karten gezeichnet\, Verstecke aufgesucht\, Proviantschrä
 nke geplündert und Aussichten bewundert. Es wird kalt\, eng\, gefährlich
  und herrlich zugleich. Ist das ein seltsames Tiergeräusch? Oder doch&nbs
 p\; das andere Kind in der Leitung?</p>\n<p>„Homewalk“ ist ein Telefon
 -Audioparcours\, der neue Orte und Pfade erschafft\, durch die Landschafte
 n der eigenen und die Wohnungen der anderen. Live moderiert und mittels ge
 sprochenem Wort\, durch Sounds und Musik werden drei Wohnungen zu einer Ge
 samtwelt: Das ist Wohnanien! Dabei befragt „Homewalk“ spielerisch die 
 Bedingungen unseres Wohnens\, die Unterschiede und Gemeinsamkeiten und set
 zt uns ins Verhältnis zueinander – und zu der Welt da draußen.</p>\n<p
 ><em>Zum Mitmachen braucht man ein internetfähiges Smartphone\, außerdem
  ein Headset oder Kopfhörer.</em><br /> <br /> <a href="http://www.pulk-f
 iktion.de">www.pulk-fiktion.de</a></p>\n<p>Ermöglicht durch das RELOAD ST
 IPENDIUM der Kulturstiftung des Bundes</p>
LOCATION:KONZEPT pulk fiktion\nTEXT UND DRAMATURGIE Hannah Biedermann\, Cl
 ara Minckwitz\, Norman Grotegut\nPERFORMANCE Norman Grotegut/Clara Minckwi
 tz\nSOUNDDESIGN UND TECHNIK Nicolas Schneider\nRECHTE beim Theater
END:VEVENT
END:VCALENDAR
