BEGIN:VCALENDAR
VERSION:2.0
PRODID:-//TYPO3/NONSGML Calendarize//EN
BEGIN:VEVENT
UID:calendarize-grusel-20241102
DTSTAMP:20240621T174449Z
DTSTART:20241102T140000Z
DTEND:20241102T150000Z
SUMMARY:GRUSEL
DESCRIPTION:Theatrales Live-Hörspiel | Koproduktion pulk fiktion mit KJT 
 Dortmund\, FFT Düsseldorf & FWT. Für blinde und sehende Menschen. Ab 8 
 Jahren NOMINIERT FÜR DEN KÖLNER KINDER- UND JUGENDTHEATERPREIS 2023 AUSG
 EZEICHNET MIT DEN PREISEN DER KINDER- UND DER ERWACHSENENJURY DES 40. WEST
 WIND FESTIVALS 2024\nDas Publikum zieht aus\, um das Gruseln zu lernen. Ki
 nder und Erwachsene kommen in einem theatralen Live-Hörspiel zusammen. Zw
 ischen fantastischen Geistern\, Fledermäusen und Monstern sucht das Stüc
 k nach den Ängsten des Alltags und den Schrecken der heutigen Welt\, um i
 hnen einen lustvollen Auftritt zu verpassen. \nTheatrales Live-Hörspiel 
 bedeutet bei GRUSEL: das Publikum sitzt gemeinsam auf der Bühne und hört
  etwas über Kopfhörer\, erlebt aber auch Dinge parallel im Raum.\nGeför
 dert durch das Kulturamt der Stadt Köln\, das Ministerium für Kultur und
  Wissenschaft des Landes NRW\, den Fonds Darstellende Künste\, die Stif
 tung Erlebnis Kunst und die Rheinenergiestiftung\nwww.pulk-fiktion.de\nHI
 NWEIS In dem Stück GRUSEL sitzen die Besuche.innen nicht im Publikumsraum
 \, sondern auf Stühlen\, die auf der ganzen Bühne verteilt sind. Es gibt
  keine feste Blickrichtung\, sondern unterschiedliche Ausrichtungen der St
 ühle. Die Schauspieler:innen bewegen sich zwischen den Besucher:innen. Es
  kann kurze Berührungen durch die Schauspieler:innen geben. Es gibt Momen
 te\, in denen man durch den Raum geht. Man wird dann begleitet und es wird
  auf mögliche Barrieren hingewiesen. In der Vorstellung wird manchmal mit
  starker Dunkelheit oder Helligkeit und anderen starken Lichteffekten (Str
 oboskop) gearbeitet. Teilweise kommen laute Toneffekte und Nebel zum Einsa
 tz. Während der Vorstellung werden Kopfhörer getragen. Außengeräusche 
 wird man mit und ohne Kopfhörer immer hören können. In GRUSEL geht es u
 m Ängste\, und es kann kurze Momente geben\, in denen man sich erschrickt
 .
X-ALT-DESC;FMTTYPE=text/html:<p><strong>Theatrales Live-Hörspiel </strong
 >| <strong>Koproduktion pulk fiktion mit KJT Dortmund\,&nbsp\;FFT Düsseld
 orf &amp\; FWT. Für blinde und sehende Menschen. Ab 8 Jahren</strong><br 
 /> NOMINIERT FÜR DEN KÖLNER KINDER- UND JUGENDTHEATERPREIS 2023<br /> AU
 SGEZEICHNET MIT DEN PREISEN DER KINDER- UND DER ERWACHSENENJURY DES 40. WE
 STWIND FESTIVALS 2024</p>\n<p>Das Publikum zieht aus\, um das Gruseln zu l
 ernen. Kinder und Erwachsene kommen in einem theatralen Live-Hörspiel zus
 ammen. Zwischen fantastischen Geistern\, Fledermäusen und Monstern sucht 
 das Stück nach den Ängsten des Alltags und den Schrecken der heutigen We
 lt\, um ihnen einen lustvollen Auftritt zu verpassen.&nbsp\;</p>\n<p>Theat
 rales Live-Hörspiel bedeutet bei GRUSEL: das Publikum sitzt gemeinsam auf
  der Bühne und hört etwas über Kopfhörer\, erlebt aber auch Dinge para
 llel im Raum.</p>\n<p>Gefördert durch das Kulturamt der Stadt Köln\, das
  Ministerium für Kultur und Wissenschaft des Landes NRW\, den&nbsp\;Fonds
  Darstellende Künste\, die&nbsp\;Stiftung Erlebnis Kunst und die&nbsp\;Rh
 einenergiestiftung</p>\n<p><a href="http://www.pulk-fiktion.de">www.pulk-f
 iktion.de</a></p>\n<p><strong>HINWEIS</strong><br /> In dem Stück GRUSEL 
 sitzen die Besuche.innen nicht im Publikumsraum\, sondern auf Stühlen\, d
 ie auf der ganzen Bühne verteilt sind. Es gibt keine feste Blickrichtung\
 , sondern unterschiedliche Ausrichtungen der Stühle. Die Schauspieler:inn
 en bewegen sich zwischen den Besucher:innen. Es kann kurze Berührungen du
 rch die Schauspieler:innen geben. Es gibt Momente\, in denen man durch den
  Raum geht. Man wird dann begleitet und es wird auf mögliche Barrieren hi
 ngewiesen. In der Vorstellung wird manchmal mit starker Dunkelheit oder He
 lligkeit und anderen starken Lichteffekten (Stroboskop) gearbeitet. Teilwe
 ise kommen laute Toneffekte und Nebel zum Einsatz. Während der Vorstellun
 g werden Kopfhörer getragen. Außengeräusche wird man mit und ohne Kopfh
 örer immer hören können. In GRUSEL geht es um Ängste\, und es kann kur
 ze Momente geben\, in denen man sich erschrickt.</p>
LOCATION:KONZEPT pulk fiktion\nREGIE Hannah Biedermann und Norman Grotegut
 \nPERFORMANCE Marouf Alhassan\, Franziska Schmitz\, Manuela Neudegger\, Ha
 nnah Biedermann/Norman Grotegut\nSOUNDDESIGN Dirk Sorge\nDRAMATURGIE Lisa 
 Zehetner\nAUSSTATTUNG Ria Papadopoulou\nVERMITTLUNG Hannah Dijksma\nTECHNI
 K UND VERSCHALTETE ELEMENTE Simon Brinkmann\nBELEUCHTUNG Peter Behle
END:VEVENT
END:VCALENDAR
