BEGIN:VCALENDAR
VERSION:2.0
PRODID:-//TYPO3/NONSGML Calendarize//EN
BEGIN:VEVENT
UID:calendarize-film-milliarden-jahre-widerhall-20241123
DTSTAMP:20241005T180554Z
DTSTART:20241123T170000Z
DTEND:20241123T210000Z
SUMMARY:MILLIARDEN JAHRE WIDERHALL (Film)
DESCRIPTION:Gezeichneter Essay-Film von Naoko Tanaka (2023)\nDer Essay-Fil
 m ist Teil der gleichnamigen performativen Ausstellung "Milliarden Jahre W
 iderhall". Er basiert auf Zeichnungen von Tanakas Reise in die kontaminier
 te Sperrzone von Fukushima. Dort haben radioaktive Mineralien\, die aus de
 n Tiefen der Erde an die Oberfläche gelangt sind\, katastrophale und irre
 versible Schäden im lokalen Ökosystem hinterlassen. Die Künstlerin verw
 andelt ihre realen Begegnungen mit Menschen\, Tieren und Naturobjekten in 
 Fukushima in magische Erzählungen. Im analogen Prozess des Zeichnens\, Ra
 dierens und Fotografierens entwickeln die so kontinuierlich entstehenden u
 nd vergehenden Bleistiftzeichnungen ein Eigenleben. Die Vorstellungen von 
 Schöpfung\, Naturgewalt und Mensch unterscheiden sich radikal von gängig
 en Erzählweisen.\nSprache: Deutsch mit englischen Untertiteln Dauer: 11 M
 inuten  Zu sehen im Rahmen der Performativen Ausstellung "Milliarden Jahre
  Widerhall" (30.11. und 1.12.2024) sowie im Rahmen von Rohstoffausbeutung 
 – Drei Positionen aus der Medienkunst zusammen mit zwei weiteren Videoar
 beiten "Dark Matter" und "Kris Project I: The Never Ending Tale of Maria\,
  Tin Mine\, Spices and the Harimau" im Loop im angegebenen Zeitraum: am 16
 . November 2024 von 15:00-17:00 Uhr\, FWT: EG Bühne (Mit Hörunterstützu
 ng) am 22. und 23. November 2024 von 18:00-22:00 Uhr\, FWT: UG Bühne (Mit
  Hörunterstützung\, Early Boarding\, Rollstuhlgerecht)\nNaoko Tanaka (To
 kyo\, 1975) studierte Malerei und Bildhauerei an der Universität der Kün
 ste in Tokio und kam 1999 als Stipendiatin der Kunstakademie Düsseldorf n
 ach Deutschland\, wo sie mit der Performance- und später der Tanzszene in
  Berührung kam. Ihre interdisziplinären Arbeiten umfassen u.a. Zeichnung
 \, Installation\, Performance und Film. Mit der Schatten-Trilogie (2011-20
 15) entwickelte Tanaka ein originäres Format\, Installationen performativ
  zu bespielen – Licht\, Schatten und andere sich bewegende Objekte werde
 n in choreografische und architektonische Kompositionen gebracht\, die das
  Publikum in einen außergewöhnlichen Wahrnehmungsmodus versetzen können
 .\nEnglish version  Billion Years of Echoes Naoko Tanaka (hand-drawn film\
 , 11 minutes)\nThe essay film is part of the performative exhibition of th
 e same name. It is based on drawings from Tanaka's journey into the contam
 inated exclusion zone of Fukushima. There\, radioactive minerals brought t
 o the surface from the depths of the earth have caused catastrophic and ir
 reversible damage to the local ecosystem. The artist transforms her real e
 ncounters with people\, animals and natural objects in Fukushima into magi
 cal narratives. Through the analogue process of drawing\, erasing and phot
 ographing\, the constantly evolving and dissolving pencil drawings take on
  a life of their own.  In this way the concepts of creation\, natural for
 ces and human beings appear radically different from conventional narrativ
 es.\nLanguage: German with english subtitles Duration: 11 minutes\nNaoko T
 anaka (Tokyo\, 1975) studied painting and sculpture at the University of t
 he Arts in Tokyo and came to Germany in 1999 as a scholarship holder at th
 e Düsseldorf Art Academy\, where she came into contact with the performan
 ce and later the dance scene. Her interdisciplinary works include drawing\
 , installation\, performance\, and film. With Shadow Trilogy (2011-2015)\,
  she has developed her own performative format that integrates light\, sha
 dow and other moving objects into choreographic and architectural composit
 ions which immerse the audience in an extraordinary mode of perception.\nG
 efördert durch Perform Europe im Rahmen des Projekts „Buried Secrets –
  Responses to Raw Materials Exploitation“
X-ALT-DESC;FMTTYPE=text/html:<p><strong><em>Gezeichneter Essay-Film</em> v
 on Naoko Tanaka (2023)</strong></p>\n<p>Der Essay-Film ist Teil der gleich
 namigen performativen Ausstellung <a href="https://www.fwt-koeln.de/verans
 taltung/milliarden-jahre-widerhall-20241130">"Milliarden Jahre Widerhall"<
 /a>. Er basiert auf Zeichnungen von Tanakas Reise in die kontaminierte Spe
 rrzone von Fukushima. Dort haben radioaktive Mineralien\, die aus den Tief
 en der Erde an die Oberfläche gelangt sind\, katastrophale und irreversib
 le Schäden im lokalen Ökosystem hinterlassen. Die Künstlerin verwandelt
  ihre realen Begegnungen mit Menschen\, Tieren und Naturobjekten in Fukush
 ima in magische Erzählungen. Im analogen Prozess des Zeichnens\, Radieren
 s und Fotografierens entwickeln die so kontinuierlich entstehenden und ver
 gehenden Bleistiftzeichnungen ein Eigenleben. Die Vorstellungen von Schöp
 fung\, Naturgewalt und Mensch unterscheiden sich radikal von gängigen Erz
 ählweisen.</p>\n<p><strong>Sprache: </strong>Deutsch mit englischen Unter
 titeln<br /> <strong>Dauer: </strong>11 Minuten<br /> <br /> Zu sehen im R
 ahmen der <strong><a href="https://www.fwt-koeln.de/veranstaltung/milliard
 en-jahre-widerhall-20241130">Performativen Ausstellung "Milliarden Jahre W
 iderhall" </a></strong>(30.11. und 1.12.2024) sowie im Rahmen von <strong>
 Rohstoffausbeutung – Drei Positionen aus der Medienkunst </strong>zusamm
 en mit zwei weiteren Videoarbeiten <strong><a href="https://www.fwt-koeln.
 de/veranstaltung/dark-matter-20241116">"Dark Matter"</a></strong> und <str
 ong><a href="https://www.fwt-koeln.de/veranstaltung/film-kris-project-i-20
 241116">"Kris Project I: The Never Ending Tale of Maria\, Tin Mine\, Spice
 s and the Harimau"</a></strong><br /> im Loop im angegebenen Zeitraum:<br 
 /> <strong>am 16. November 2024</strong> von 15:00-17:00 Uhr\, FWT: EG Bü
 hne (Mit Hörunterstützung)<br /> <strong>am 22. und 23. November 2024 </
 strong>von 18:00-22:00 Uhr\, FWT: UG Bühne (Mit Hörunterstützung\, Earl
 y Boarding\, Rollstuhlgerecht)</p>\n<p><strong>Naoko Tanaka</strong> (Toky
 o\, 1975)<br /> studierte Malerei und Bildhauerei an der Universität der 
 Künste in Tokio und kam 1999 als Stipendiatin der Kunstakademie Düsseldo
 rf nach Deutschland\, wo sie mit der Performance- und später der Tanzszen
 e in Berührung kam. Ihre interdisziplinären Arbeiten umfassen u.a. Zeich
 nung\, Installation\, Performance und Film. Mit der Schatten-Trilogie (201
 1-2015) entwickelte Tanaka ein originäres Format\, Installationen perform
 ativ zu bespielen – Licht\, Schatten und andere sich bewegende Objekte w
 erden in choreografische und architektonische Kompositionen gebracht\, die
  das Publikum in einen außergewöhnlichen Wahrnehmungsmodus versetzen kö
 nnen.</p>\n<p><em><strong>English version</strong></em><br /> <br /> <stro
 ng>Billion Years of Echoes</strong><br /> <strong>Naoko Tanaka</strong> (h
 and-drawn film\, 11 minutes)</p>\n<p>The essay film is part of the perform
 ative exhibition of the same name. It is based on drawings from Tanaka's j
 ourney into the contaminated exclusion zone of Fukushima. There\, radioact
 ive minerals brought to the surface from the depths of the earth have caus
 ed catastrophic and irreversible damage to the local ecosystem. The artist
  transforms her real encounters with people\, animals and natural objects 
 in Fukushima into magical narratives. Through the analogue process of draw
 ing\, erasing and photographing\, the constantly evolving and dissolving p
 encil drawings take on a life of their own.&nbsp\; In this way the concept
 s of creation\, natural forces and human beings appear radically different
  from conventional narratives.</p>\n<p><strong>Language:</strong> German w
 ith english subtitles<br /> <strong>Duration: </strong>11 minutes</p>\n<p>
 <strong>Naoko Tanaka (Tokyo\, 1975)</strong><br /> studied painting and sc
 ulpture at the University of the Arts in Tokyo and came to Germany in 1999
  as a scholarship holder at the Düsseldorf Art Academy\, where she came i
 nto contact with the performance and later the dance scene. Her interdisci
 plinary works include drawing\, installation\, performance\, and film. Wit
 h Shadow Trilogy (2011-2015)\, she has developed her own performative form
 at that integrates light\, shadow and other moving objects into choreograp
 hic and architectural compositions which immerse the audience in an extrao
 rdinary mode of perception.</p>\n<p><strong>Gefördert durch </strong>Perf
 orm Europe im Rahmen des Projekts „Buried Secrets – Responses to Raw M
 aterials Exploitation“</p>
LOCATION:
END:VEVENT
END:VCALENDAR
