BEGIN:VCALENDAR
VERSION:2.0
PRODID:-//TYPO3/NONSGML Calendarize//EN
BEGIN:VEVENT
UID:calendarize-dwdw-die-sache-mit-den-baeumen-20250330
DTSTAMP:20250123T152631Z
DTSTART:20250330T130000Z
DTEND:20250330T143000Z
SUMMARY:DWDW - DIE SACHE MIT DEN BÄUMEN
DESCRIPTION:Armada Theater | Performance | Im Rahmen der Themenreihe Focus
  on: Rohstoffe - Buried SecretsEs ist soweit! Nach einem Jahr knallharter 
 Recherche und journalistischem Kahlschlag geht Bobby Kim endlich wieder li
 ve auf Sendung. Also seid dabei\, wenn die beliebte Moderatorin ihre illus
 tren Talkgäste empfängt\, um mit ihnen über das Ökosystem Wald zu spre
 chen. Ob live im TV-Studio oder zugeschaltet: Spannende Gäste aus Politik
  und Wissenschaft\, unerschrockene Reporter:innen und Showacts mit Ohrwurm
 -Garantie.Und es ist dringlicher denn je. Um den immensen Holzhunger unser
 er Zivilisation zu stillen\, schreitet der Raubbau ungebremst fort\, währ
 end überall auf der Welt die Wälder brennen\, sich die Jahreszeiten vers
 chieben und die Regenwälder vor dem Kollaps stehen.Schonungslos\, bitterb
 öse\, aber immer humorvoll beschäftigt sich das Armada Theater in seiner
  rasanten Performance im TV-Show-Format mit Fragen wie: Welche Folgen hat 
 unser Konsum für die Wälder vor unserer Haustür und auf der anderen Sei
 te des Planeten? Welche Rolle spielen sie für unser Erdklima und das Fort
 bestehen der Gattung Homo Sapiens? Und: Was können wir tun\, um unsere Wä
 lder zu retten?\nDas Armada Theater ist ein freies Kollektiv aus NRW und s
 teht für unkonventionelle Bühnenproduktionen\, die alle angehen und alle
  mitnehmen – Kinder\, Jugendliche\, Erwachsene. 2013 von Clara Gohmert u
 nd Michael Zier gegründet\, verwebt die Gruppe filmische Elemente\, Figur
 en- und Objekttheater\, Physical Theatre und (Live-)Musik zu absurd-unterh
 altsamen Bühnenperformances rund um die drängenden Themen unserer Zeit: 
 Ökologie\, Klimaschutz & Co.Ausgesprochenes Ziel der Armada ist es\, komp
 lexe Zusammenhänge spielend leicht zu vermitteln – mal bitterböse\, ma
 l trashig\, malurkomisch und meistens alles zusammen. Mit viel Humor\, Pop
 -Kultur und Live-Kamera-Einsatz nimmt die Armada das Publikum mit auf voll
 e Autobahnen\, an leere Flussläufe und lässt es auf antarktischen Eissch
 ollen schaukeln oder tief in tropische Regenwälder stapfen. Sie erschaffe
 n ganze Welten im Miniaturformat\, verwendet wird Upcycling-Material.\nwww
 .armada-theater.de\nGefördert durch den Fonds Darstellende Künste aus Mi
 tteln der Beauftragten der Bundesregierung für Kultur und Medien im Rahme
 n von NEUSTART KULTUR und das Ministerium für Kultur und Wissenschaft des
  Landes Nordrhein-Westfalen sowie das NRW Landesbüro Freie Darstellende K
 ünste
X-ALT-DESC;FMTTYPE=text/html:<p><strong>Armada Theater | Performance | Im 
 Rahmen der Themenreihe Focus on: Rohstoffe - Buried Secrets</strong><br />
 <br />Es ist soweit! Nach einem Jahr knallharter Recherche und journalisti
 schem Kahlschlag geht Bobby Kim endlich wieder live auf Sendung. Also seid
  dabei\, wenn die beliebte Moderatorin ihre illustren Talkgäste empfängt
 \, um mit ihnen über das Ökosystem Wald zu sprechen. Ob live im TV-Studi
 o oder zugeschaltet: Spannende Gäste aus Politik und Wissenschaft\, uners
 chrockene Reporter:innen und Showacts mit Ohrwurm-Garantie.<br /><br />Und
  es ist dringlicher denn je. Um den immensen Holzhunger unserer Zivilisati
 on zu stillen\, schreitet der Raubbau ungebremst fort\, während überall 
 auf der Welt die Wälder brennen\, sich die Jahreszeiten verschieben und d
 ie Regenwälder vor dem Kollaps stehen.<br /><br />Schonungslos\, bitterbö
 se\, aber immer humorvoll beschäftigt sich das Armada Theater in seiner r
 asanten Performance im TV-Show-Format mit Fragen wie: Welche Folgen hat un
 ser Konsum für die Wälder vor unserer Haustür und auf der anderen Seite
  des Planeten? Welche Rolle spielen sie für unser Erdklima und das Fortbe
 stehen der Gattung Homo Sapiens? Und: Was können wir tun\, um unsere Wäl
 der zu retten?</p>\n<p><strong>Das Armada Theater</strong> ist ein freies 
 Kollektiv aus NRW und steht für unkonventionelle Bühnenproduktionen\, di
 e alle angehen und alle mitnehmen – Kinder\, Jugendliche\, Erwachsene. 2
 013 von Clara Gohmert und Michael Zier gegründet\, verwebt die Gruppe fil
 mische Elemente\, Figuren- und Objekttheater\, Physical Theatre und (Live-
 )Musik zu absurd-unterhaltsamen Bühnenperformances rund um die drängende
 n Themen unserer Zeit: Ökologie\, Klimaschutz &amp\; Co.<br />Ausgesproch
 enes Ziel der Armada ist es\, komplexe Zusammenhänge spielend leicht zu v
 ermitteln – mal bitterböse\, mal trashig\, mal<br />urkomisch und meist
 ens alles zusammen. Mit viel Humor\, Pop-Kultur und Live-Kamera-Einsatz ni
 mmt die Armada das Publikum mit auf volle Autobahnen\, an leere Flussläuf
 e und lässt es auf antarktischen Eisschollen schaukeln oder tief in tropi
 sche Regenwälder stapfen. Sie erschaffen ganze Welten im Miniaturformat\,
  verwendet wird Upcycling-Material.</p>\n<p><a href="http://www.armada-the
 ater.de">www.armada-theater.de</a></p>\n<p><strong>Gefördert durch</stron
 g> den Fonds Darstellende Künste aus Mitteln der Beauftragten der Bundesr
 egierung für Kultur und Medien im Rahmen von NEUSTART KULTUR und das Mini
 sterium für Kultur und Wissenschaft des Landes Nordrhein-Westfalen sowie 
 das NRW Landesbüro Freie Darstellende Künste</p>
LOCATION:VON & MIT Clara Gohmert\, Michael Zier\, Pia Alena Wagner\, Este 
 Kirchhoff\, Faris Saleh\, Simon Knöß\nKÜNSTLERISCHE LEITUNG Clara Gohme
 rt\, Michael Zier\, Anna-Lena Werner\nREGIE Clara Gohmert\nAUSSTATTUNG Bri
 tta Wagner & Ensemble\nDRAMATURGIE & PRODUKTIONSLEITUNG Anna-Lena Werner\n
 PRODUKTIONSASSISTENZ & TOURING Miriam Schmidt\nTEXT Anina Büchenbacher\nM
 USIK Este Kirchhoff\nKAMERA Robin Alberding / Marja Vormann\nLICHTDESIGN S
 imon Knöß\nVERMITTLUNG Birgit Günster\nGRAFIKDESIGN Britta Wagner\nPRES
 SE & ÖFFENTLICHKEITSARBEIT Uta Graßhoff
END:VEVENT
END:VCALENDAR
