BEGIN:VCALENDAR
VERSION:2.0
PRODID:-//TYPO3/NONSGML Calendarize//EN
BEGIN:VEVENT
UID:calendarize-der-kreis-20250607
DTSTAMP:20250410T111855Z
DTSTART:20250607T160000Z
DTEND:20250607T180000Z
SUMMARY:DER KREIS
DESCRIPTION:Partizipative Performance am ChlodwigplatzThemenreihe Common S
 trugglesKoproduktion Drama Köln & FWT\nWas passiert\, wenn wir die digita
 l zugespitzten Lagerbildungen analog und real entstehen lassen? Wie wäre 
 es\, wenn wir selber bestimmen\, wozu und wie wir uns positionieren? Im Re
 alen und Face to Face? Der Kreis ist eine performative Einladung sich zus
 ammen öffentlich zu positionieren. Die Gruppe aus Teilnehmenden und Perfo
 rmer:innen generiert dabei immer wieder neue Wirs vor urbaner Kulisse. Wir
  ohne Kinder. Wir mit Geld. Wir mit günstigen Mietvertrag. Wir ohne Euch.
  Ihr ohne uns.Die Teilnehmenden erwartet ein Setting mitten auf einem öff
 entlichen Platz und dennoch geschützt durch ein Spiel\, durch den Soundtr
 ack\, der sie durch den Abend trägt. Offen für das Außen\, dennoch nach
  innen geschützt\, durch die Regeln des Spiels.Jemand verlässt den Kreis
  und jemand geht in seine Mitte. Andere stellen sich dazu. Alle\, die niem
 als neidisch auf ihre Nachbarn waren\, stehen auf. All die\, die niemals g
 elogen haben\, kommen zu mir\, ich schwebe hier über dem Boden auf dem Ch
 lodwigplatz.Einer einfachen Formel folgend\, entsteht ein offener Abend. E
 lemente sind flexibel\, Dynamiken werden gemeinsam mit den Teilnehmenden g
 efunden\, erreichen Zuspitzungen\, Verdichtungen. Doch immer wieder an fes
 ten\, sicheren Angelpunkten innehaltend verspricht das Zusammensein im Hie
 r und Jetzt echte Empathie. All die\, die schon mal in der Bar auf die To
 ilette gegangen sind\, nur um sich im Spiegel anzuschauen\, schauen bitte 
 mit mir in den Spiegel.Die Performance findet nicht in den Räumen des Fre
 ien Werkstatt Theaters statt\, sondern auf dem Kölner Chlodwigplatz.Sie f
 indet bei jedem Wetter statt! Bitte der Wetterlage entsprechende Kleidung 
 und Regenschirm mitbringen.Treffpunkt am Aufzug der U-Bahn-Station Chlodwi
 gplatz in der Kölner Südstadt.Eintritt auf Spendenbasis. Anmeldung unter
  karten@fwt-koeln.de oder durch Buchung eines 0-Euro-Tickets über qultor 
 erforderlich. Die Teilnehmenden erhalten gegen Pfand von 10\,00 € in bar
  einen Kopfhörer zur Teilnahme.\nProduktion gefördert durch: Kulturamt d
 er Stadt Köln\, Kunststiftung NRW\, Fonds Darstellende Künste\, Minister
 ium für Kultur und Wissenschaft des Landes Nordrhein-Westfalen\, NRW Land
 esbüro Freie Darstellende KünsteWiederaufnahme gefördert vom Fonds Dars
 tellende Künste aus Mitteln der Beauftragten der Bundesregierung für Kul
 tur und Medien im Rahmen von NEUSTART KULTUR und vom Kulturamt der Stadt K
 öln.
X-ALT-DESC;FMTTYPE=text/html:<p><strong>Partizipative Performance am Chlod
 wigplatz</strong><br /><a href="https://www.fwt-koeln.de/programm/focus-on
 "><strong>Themenreihe Common Struggles</strong></a><br /><strong>Koprodukt
 ion Drama Köln &amp\; FWT</strong></p>\n<p>Was passiert\, wenn wir die di
 gital zugespitzten Lagerbildungen analog und real entstehen lassen? Wie wä
 re es\, wenn wir selber bestimmen\, wozu und wie wir uns positionieren? Im
  Realen und Face to Face?&nbsp\;<br />Der Kreis ist eine performative Einl
 adung sich zusammen öffentlich zu positionieren. Die Gruppe aus Teilnehme
 nden und Performer:innen generiert dabei immer wieder neue Wirs vor urbane
 r Kulisse. Wir ohne Kinder. Wir mit Geld. Wir mit günstigen Mietvertrag. 
 Wir ohne Euch. Ihr ohne uns.<br /><br />Die Teilnehmenden erwartet ein Set
 ting mitten auf einem öffentlichen Platz und dennoch geschützt durch ein
  Spiel\, durch den Soundtrack\, der sie durch den Abend trägt. Offen für
  das Außen\, dennoch nach innen geschützt\, durch die Regeln des Spiels.
 <br />Jemand verlässt den Kreis und jemand geht in seine Mitte. Andere st
 ellen sich dazu. Alle\, die niemals neidisch auf ihre Nachbarn waren\, ste
 hen auf. All die\, die niemals gelogen haben\, kommen zu mir\, ich schwebe
  hier über dem Boden auf dem Chlodwigplatz.<br />Einer einfachen Formel f
 olgend\, entsteht ein offener Abend. Elemente sind flexibel\, Dynamiken we
 rden gemeinsam mit den Teilnehmenden gefunden\, erreichen Zuspitzungen\, V
 erdichtungen. Doch immer wieder an festen\, sicheren Angelpunkten innehalt
 end verspricht das Zusammensein im Hier und Jetzt echte Empathie.&nbsp\;<b
 r />All die\, die schon mal in der Bar auf die Toilette gegangen sind\, nu
 r um sich im Spiegel anzuschauen\, schauen bitte mit mir in den Spiegel.<b
 r /><br />Die Performance findet nicht in den Räumen des Freien Werkstatt
  Theaters statt\, sondern auf dem Kölner Chlodwigplatz.<br /><strong>Sie 
 findet bei jedem Wetter statt! Bitte der Wetterlage entsprechende Kleidung
  und Regenschirm mitbringen.</strong><br /><br /><strong>Treffpunkt am Auf
 zug der U-Bahn-Station Chlodwigplatz in der Kölner Südstadt.</strong><br
  /><strong>Eintritt auf Spendenbasis. Anmeldung unter </strong><a href="ma
 ilto:karten@fwt-koeln.de"><strong>karten@fwt-koeln.de</strong></a><strong>
  oder durch Buchung eines 0-Euro-Tickets über qultor erforderlich. </stro
 ng>Die Teilnehmenden erhalten gegen <strong>Pfand von 10\,00 € in bar</s
 trong> einen Kopfhörer zur Teilnahme.</p>\n<p>Produktion gefördert durch
 : Kulturamt der Stadt Köln\, Kunststiftung NRW\, Fonds Darstellende Küns
 te\, Ministerium für Kultur und Wissenschaft des Landes Nordrhein-Westfal
 en\, NRW Landesbüro Freie Darstellende Künste<br /><br />Wiederaufnahme 
 gefördert vom Fonds Darstellende Künste aus Mitteln der Beauftragten der
  Bundesregierung für Kultur und Medien im Rahmen von NEUSTART KULTUR und 
 vom Kulturamt der Stadt Köln.</p>
LOCATION:VON UND MIT Oliver Bedorf\, Justine Hauer\, Andreas Maier\, Emely
  Allan\nKONZEPT Philine Velhagen \nAUSSTATTUNG Cordula Körber\nDRAMATURGI
 E Nina Rühmeier\nTECHNIK UND TON Nolle Woida\nKOPRODUKTION Drama Köln & 
 FWT
END:VEVENT
END:VCALENDAR
