BEGIN:VCALENDAR
VERSION:2.0
PRODID:-//TYPO3/NONSGML Calendarize//EN
BEGIN:VEVENT
UID:calendarize-dark-matter-20241123
DTSTAMP:20241005T170424Z
DTSTART:20241123T170000Z
DTEND:20241123T210000Z
SUMMARY:DARK MATTER
DESCRIPTION:Experimentalfilm von Viktor Brim (2020)\nDunkle Erde wird ausg
 egraben\, transportiert und weggeschafft. Verschiedene Bilder\, die situat
 iv in Zusammenhang gebracht werden\, erzeugen in "Dark Matter" eine postap
 okalyptische Landschaft\, die das Zeitempfinden des Publikums verschärft 
 und herausfordert. In düsteren\, stillen Tableauaufnahmen zeigt Viktor Br
 im die Umweltzerstörung und prekäre Arbeitsrealität in einer der weltgr
 ößten Diamantenminen Mir im nordostsibirischen Sacha (Jakutien). Technol
 ogie und Ideologie gehen hier Hand in Hand und hinterlassen ihre Spuren. D
 ie Mine wird sowohl von dem lokalen Unternehmen Alrosa als auch von der Re
 gierung betrieben und überwacht. Denn der Bergbau steht unter anderem im 
 Zusammenhang mit duzenden Atombombentests\, die die sowjetische Regierung 
 in den Jahren 1974 - 1987 in Sacha durchführte. Radioaktives Material\, S
 puren der Schwerindustrie und Raketenteile haben die Region in eine toxisc
 he Landschaft verwandelt.\nDauer: 20 Minuten Sprache: Ohne Sprache\nZu seh
 en im Rahmen von Rohstoffausbeutung – drei Positionen in der Medienkunst
  zusammen mit zwei weiteren Videoarbeiten "Milliarden Jahre Widerhall" und
  "Kris Project I: The Never Ending Tale of Maria\, Tin Mine\, Spices and t
 he Harimau" im Loop im angegebenen Zeitraum: am 16. November 2024 von 15:0
 0-17:00 Uhr\, FWT: EG Bühne (Mit Hörunterstützung) am 22. und 23. Novem
 ber 2024 von 18:00-22:00 Uhr\, FWT: UG Bühne (Mit Hörunterstützung\, Ea
 rly Boarding\, Rollstuhlgerecht)\nViktor Brim (Taschkent\, 1987) ist Küns
 tler und Filmemacher. In seiner künstlerischen Praxis bewegt sich Viktor 
 Brim zwischen installativen Projekten\, Filmproduktionen und publizistisch
 er Arbeit. In seinen jüngsten Werken setzt er sich intensiv mit den Auswi
 rkungen extraktivistischer Prozesse auseinander\, insbesondere im Mansfeld
 er Land\, dem Rheinischen Braunkohlerevier und verschiedenen Diamantbergwe
 rken in Sibirien. Seine Arbeit konzentriert sich darauf\, die Spuren und N
 achwirkungen industrieller Aktivitäten zu erkunden\, die sich in Sediment
 en\, Gesteinsschichten und chemischen Verbindungen manifestieren. Dabei in
 teressieren ihn insbesondere landschaftliche Veränderungen von großem Au
 smaß\, die sich über lange Zeiträume erstrecken.\nEnglish Version\nDark
  earth is excavated\, transported\, and removed. In "Dark Matter"\, a seri
 es of situationally linked images create a post-apocalyptic landscape that
  sharpens and challenges the viewer's perception of time. In dark\, silent
  tableau shots\, Viktor Brim portrays environmental destruction and the pr
 ecarious working conditions in one of the world’s largest diamond mines\
 , Mir\, in northeastern Siberia's Sakha (Yakutia). Here\, technology and i
 deology go hand in hand\, leaving their traces. The mine is operated and m
 onitored by both the local company\, Alrosa\, and the government\, as it i
 s connected to dozens of atomic bomb tests by the Soviet government in Sak
 ha between 1974 and 1987. Radioactive material\, traces of heavy industry\
 , and missile parts have turned the region into a toxic landscape.\nDurati
 on: 20 minutes Language: No dialogue\nViktor Brim (Tashkent\, 1987)  is a
 n artist and filmmaker. His art moves between installation projects\, film
  productions\, and journalistic work. His recent works have focused intens
 ively on the impacts of extractive industries\, particularly in the Mansfe
 ld region\, the Rhenish lignite mining area\, and various diamond mines in
  Siberia. He investigates the traces and aftereffects of industrial activi
 ties\, which manifest in sediments\, rock layers\, and chemical compounds.
  He is particularly interested in large-scale landscape changes that unfol
 d over extended periods of time.\nGefördert durch Perform Europe im Rahme
 n des Projekts „Buried Secrets – Responses to Raw Materials Exploitati
 on“
X-ALT-DESC;FMTTYPE=text/html:<p><strong><em>Experimentalfilm</em> von Vikt
 or Brim </strong>(2020)</p>\n<p>Dunkle Erde wird ausgegraben\, transportie
 rt und weggeschafft. Verschiedene Bilder\, die situativ in Zusammenhang ge
 bracht werden\, erzeugen in "Dark Matter" eine postapokalyptische Landscha
 ft\, die das Zeitempfinden des Publikums verschärft und herausfordert. In
  düsteren\, stillen Tableauaufnahmen zeigt Viktor Brim die Umweltzerstör
 ung und prekäre Arbeitsrealität in einer der weltgrößten Diamantenmine
 n Mir im nordostsibirischen Sacha (Jakutien). Technologie und Ideologie ge
 hen hier Hand in Hand und hinterlassen ihre Spuren. Die Mine wird sowohl v
 on dem lokalen Unternehmen Alrosa als auch von der Regierung betrieben und
  überwacht. Denn der Bergbau steht unter anderem im Zusammenhang mit duze
 nden Atombombentests\, die die sowjetische Regierung in den Jahren 1974 - 
 1987 in Sacha durchführte. Radioaktives Material\, Spuren der Schwerindus
 trie und Raketenteile haben die Region in eine toxische Landschaft verwand
 elt.</p>\n<p><strong>Dauer: </strong>20 Minuten<br /> <strong>Sprache:</st
 rong> Ohne Sprache</p>\n<p>Zu sehen<strong> </strong>im Rahmen von <strong
 >Rohstoffausbeutung – drei Positionen in der Medienkunst</strong><br /> 
 zusammen mit zwei weiteren Videoarbeiten <strong><a href="https://www.fwt-
 koeln.de/veranstaltung/film-milliarden-jahre-widerhall-20241116">"Milliard
 en Jahre Widerhall"</a></strong> und <strong><a href="https://www.fwt-koel
 n.de/veranstaltung/film-kris-project-i-20241116">"Kris Project I: The Neve
 r Ending Tale of Maria\, Tin Mine\, Spices and the Harimau"</a></strong><b
 r /> im Loop im angegebenen Zeitraum:<br /> <strong>am 16. November 2024</
 strong> von 15:00-17:00 Uhr\, FWT: EG Bühne (Mit Hörunterstützung)<br /
 > <strong>am 22. und 23. November 2024 </strong>von 18:00-22:00 Uhr\, FWT:
  UG Bühne (Mit Hörunterstützung\, Early Boarding\, Rollstuhlgerecht)</p
 >\n<p><strong>Viktor Brim (Taschkent\, 1987)</strong><br /> ist Künstler 
 und Filmemacher. In seiner künstlerischen Praxis bewegt sich Viktor Brim 
 zwischen installativen Projekten\, Filmproduktionen und publizistischer Ar
 beit. In seinen jüngsten Werken setzt er sich intensiv mit den Auswirkung
 en extraktivistischer Prozesse auseinander\, insbesondere im Mansfelder La
 nd\, dem Rheinischen Braunkohlerevier und verschiedenen Diamantbergwerken 
 in Sibirien. Seine Arbeit konzentriert sich darauf\, die Spuren und Nachwi
 rkungen industrieller Aktivitäten zu erkunden\, die sich in Sedimenten\, 
 Gesteinsschichten und chemischen Verbindungen manifestieren. Dabei interes
 sieren ihn insbesondere landschaftliche Veränderungen von großem Ausmaß
 \, die sich über lange Zeiträume erstrecken.</p>\n<p><em><strong>English
  Version</strong></em></p>\n<p>Dark earth is excavated\, transported\, and
  removed. In "Dark Matter"\, a series of situationally linked images creat
 e a post-apocalyptic landscape that sharpens and challenges the viewer's p
 erception of time. In dark\, silent tableau shots\, Viktor Brim portrays e
 nvironmental destruction and the precarious working conditions in one of t
 he world’s largest diamond mines\, Mir\, in northeastern Siberia's Sakha
  (Yakutia). Here\, technology and ideology go hand in hand\, leaving their
  traces. The mine is operated and monitored by both the local company\, Al
 rosa\, and the government\, as it is connected to dozens of atomic bomb te
 sts by the Soviet government in Sakha between 1974 and 1987. Radioactive m
 aterial\, traces of heavy industry\, and missile parts have turned the reg
 ion into a toxic landscape.</p>\n<p><strong>Duration: </strong>20 minutes<
 br /> <strong>Language: </strong>No dialogue</p>\n<p><strong>Viktor Brim (
 Tashkent\, 1987)&nbsp\;</strong><br /> is an artist and filmmaker. His art
  moves between installation projects\, film productions\, and journalistic
  work. His recent works have focused intensively on the impacts of extract
 ive industries\, particularly in the Mansfeld region\, the Rhenish lignite
  mining area\, and various diamond mines in Siberia. He investigates the t
 races and aftereffects of industrial activities\, which manifest in sedime
 nts\, rock layers\, and chemical compounds. He is particularly interested 
 in large-scale landscape changes that unfold over extended periods of time
 .</p>\n<p><strong>Gefördert durch </strong>Perform Europe im Rahmen des P
 rojekts „Buried Secrets – Responses to Raw Materials Exploitation“</
 p>
LOCATION:
END:VEVENT
END:VCALENDAR
