BEGIN:VCALENDAR
VERSION:2.0
PRODID:-//TYPO3/NONSGML Calendarize//EN
BEGIN:VEVENT
UID:calendarize-annette-ein-heldinnenepos-20221118
DTSTAMP:20260119T115724Z
DTSTART:20221118T190000Z
DTEND:20221118T225900Z
SUMMARY:ANNETTE\, EIN HELDINNENEPOS
DESCRIPTION:Romanadaption | Nach dem Versepos von Anne WeberNOMINIERT FÜR
  DEN KÖLNER THEATERPREIS 2022\nLeben und Freiheit gehören allen Menschen
 . Dass der Kampf für diese Wahrheit ein einzelnes Menschenleben in abgrun
 dtiefe Widersprüche verstricken kann\, zeigt die wahre Geschichte der Fra
 nzösin Anne Beaumanoir\, genannt Annette.\nZur Zeit des Zweiten Weltkrieg
 s kämpft die kaum zwanzigjährige Annette gegen die Nazi-Besatzer in Fran
 kreich. Ein Jahrzehnt später wendet sie sich gegen ihr Heimatland und sch
 ließt sich dem Freiheitskampf der Algerier gegen die französische Koloni
 alherrschaft an. Dafür droht ihr Gefängnis\, sie flieht und lässt ihre 
 Familie zurück. Im unabhängigen Algerien organisiert Annette das Gesundh
 eitswesen\, dabei gerät sie in lebensgefährliche Fraktionskämpfe zwisch
 en den neuen Herren des Landes und muss\, wieder einmal\, fliehen. Sie sti
 rbt 2022\, fast hundertjährig\, allein in einem kleinen Haus in Südfrank
 reich.\nInfos zu BarrierenBeim Zugang zur Erdgeschoss-Bühne\, auf der die
 se Vorstellung stattfindet\, sind einige Stufen zu überwinden. Daher ist 
 der Zugang für Rollstuhlfahrer:innen leider nicht barrierefrei. Sie haben
  Fragen zu Ihrem Theaterbesuch? Sprechen Sie uns gerne an.
X-ALT-DESC;FMTTYPE=text/html:<p><strong>Romanadaption</strong> | <strong>N
 ach dem Versepos von Anne Weber</strong><br />NOMINIERT FÜR DEN KÖLNER T
 HEATERPREIS 2022</p>\n<p>Leben und Freiheit gehören allen Menschen. Dass 
 der Kampf für diese Wahrheit ein einzelnes Menschenleben in abgrundtiefe 
 Widersprüche verstricken kann\, zeigt die wahre Geschichte der Französin
  Anne Beaumanoir\, genannt Annette.</p>\n<p>Zur Zeit des Zweiten Weltkrieg
 s kämpft die kaum zwanzigjährige Annette gegen die Nazi-Besatzer in Fran
 kreich. Ein Jahrzehnt später wendet sie sich gegen ihr Heimatland und sch
 ließt sich dem Freiheitskampf der Algerier gegen die französische Koloni
 alherrschaft an. Dafür droht ihr Gefängnis\, sie flieht und lässt ihre 
 Familie zurück. Im unabhängigen Algerien organisiert Annette das Gesundh
 eitswesen\, dabei gerät sie in lebensgefährliche Fraktionskämpfe zwisch
 en den neuen Herren des Landes und muss\, wieder einmal\, fliehen. Sie sti
 rbt 2022\, fast hundertjährig\, allein in einem kleinen Haus in Südfrank
 reich.</p>\n<p><a href="t3://page?uid=52"><strong>Infos zu Barrieren</stro
 ng></a><br />Beim Zugang zur Erdgeschoss-Bühne\, auf der diese Vorstellun
 g stattfindet\, sind einige Stufen zu überwinden. Daher ist der Zugang fü
 r Rollstuhlfahrer:innen leider nicht barrierefrei. Sie haben Fragen zu Ihr
 em Theaterbesuch? Sprechen Sie uns gerne an.</p>
LOCATION:MIT Mirka Ritter\, Daniel Kuschewski\, Agnes Fischer\nREGIE Guido
  Rademachers\nTEXTFASSUNG Gerhard Seidel\nBÜHNE Katrin Lehmacher \nKOSTÜ
 ME Regina Rösing\nTECHNIK Anil Tepe\nREGIEASSISTENZ Barbara Büchmann\nPR
 AKTIKANTIN Ida Steinkampf
END:VEVENT
END:VCALENDAR
