BEGIN:VCALENDAR
VERSION:2.0
PRODID:-//TYPO3/NONSGML Calendarize//EN
BEGIN:VEVENT
UID:calendarize-alles-muss-anders-20250111
DTSTAMP:20241118T173523Z
DTSTART:20250111T190000Z
DTEND:20250111T203000Z
SUMMARY:ALLES MUSS ANDERS
DESCRIPTION:Performance | Von Philine Velhagen und TeamNOMINIERT FÜR DEN 
 KÖLNER THEATERPREIS 2023REBECCA HIRSCHLER AUSGEZEICHNET MIT DEM KÖLNER N
 ACHWUCHSPREIS PUCK 2024\nWo werden die großen Fragen des Lebens verhandel
 t? Auf dem Theater natürlich\, davon ist der frisch gekürte Neu-Intendan
 t Benjamin überzeugt. Nichts bleibt\, alles muss anders\, verkündet er. 
 Während der smarte Chef seinem Publikum Wahres\, Gutes und Schönes versp
 richt\, tobt sich hinter den Kulissen der ganz normale Wahnsinn aus: Trigg
 erwarnungen vor Schiller-Dramen\, 24/7-Praktikantinnen mit Lizenz zum Kaff
 eekochen\, Achtsamkeitstraining und Stressabbau\, dazu hochmotivierte Scha
 uspielschüler:innen\, wacklige Foyertische und die ranzigen Weisheiten al
 ter weißer Theatermänner. Kurz\, die tägliche Achterbahnfahrt zwischen 
 Größenphantasie und Totalabsturz.\nRegisseurin Philine Velhagen und ihr 
 Ensemble zeigen die Komödie einer verunsicherten Gesellschaft\, die um ne
 uen Halt ringt. Mit Leichtigkeit umkreist der Abend dabei große Themen. W
 as kann die Kunst\, was soll und was darf sie? Das Publikum ist immer haut
 nah dabei. Nichts macht größeren Spaß\, als anderen beim Scheitern zuzu
 sehen. Und zu erleben\, wie ein Star aus dem Nichts die Bühne erobert.\nI
 nfos zur BarrierefreiheitDie Inszenierung ist für Rollstuhlfahrer:innen w
 eitgehend barrierefrei zugänglich. Beim Zugang zur letzten Szene sind ein
 ige Stufen zu überwinden.Die Inszenierung ist für die Hörunterstützung
  mit dem Sennheiser MobileConnect-System eingerichtet.Sie haben Fragen zu 
 Ihrem Theaterbesuch? Sprechen Sie uns gerne an.
X-ALT-DESC;FMTTYPE=text/html:<p><strong>Performance </strong>| <strong>Von
  Philine Velhagen und Team</strong><br />NOMINIERT FÜR DEN KÖLNER THEATE
 RPREIS 2023<br />REBECCA HIRSCHLER AUSGEZEICHNET MIT DEM KÖLNER NACHWUCHS
 PREIS PUCK 2024</p>\n<p>Wo werden die großen Fragen des Lebens verhandelt
 ? Auf dem Theater natürlich\, davon ist der frisch gekürte Neu-Intendant
  Benjamin überzeugt. Nichts bleibt\, alles muss anders\, verkündet er. W
 ährend der smarte Chef seinem Publikum Wahres\, Gutes und Schönes verspr
 icht\, tobt sich hinter den Kulissen der ganz normale Wahnsinn aus: Trigge
 rwarnungen vor Schiller-Dramen\, 24/7-Praktikantinnen mit Lizenz zum Kaffe
 ekochen\, Achtsamkeitstraining und Stressabbau\, dazu hochmotivierte Schau
 spielschüler:innen\, wacklige Foyertische und die ranzigen Weisheiten alt
 er weißer Theatermänner. Kurz\, die tägliche Achterbahnfahrt zwischen G
 rößenphantasie und Totalabsturz.</p>\n<p>Regisseurin Philine Velhagen un
 d ihr Ensemble zeigen die Komödie einer verunsicherten Gesellschaft\, die
  um neuen Halt ringt. Mit Leichtigkeit umkreist der Abend dabei große The
 men. Was kann die Kunst\, was soll und was darf sie? Das Publikum ist imme
 r hautnah dabei. Nichts macht größeren Spaß\, als anderen beim Scheiter
 n zuzusehen. Und zu erleben\, wie ein Star aus dem Nichts die Bühne erobe
 rt.</p>\n<p><a href="t3://page?uid=52"><strong>Infos zur Barrierefreiheit<
 /strong></a><br />Die Inszenierung ist für Rollstuhlfahrer:innen weitgehe
 nd barrierefrei zugänglich. Beim Zugang zur letzten Szene sind einige Stu
 fen zu überwinden.<br />Die Inszenierung ist für die <a href="t3://page?
 uid=52">Hörunterstützung</a> mit dem Sennheiser MobileConnect-System ein
 gerichtet.<br />Sie haben Fragen zu Ihrem Theaterbesuch? Sprechen Sie uns 
 gerne an.</p>
LOCATION:MIT Sebastian Kreyer\, Nicola Schubert\, Emily Allan\, Rebecca Hi
 rschler\, Silas Pfälzer\nKÜNSTLERISCHE LEITUNG Philine Velhagen\nDRAMATU
 RGIE Nina Rühmeier\nAUSSTATTUNG Katrin Lehmacher\nREGIEASSISTENZ Claus Ad
 ler
END:VEVENT
END:VCALENDAR
